BEGIN:VCALENDAR
VERSION:2.0
PRODID:-//Visit Floyd Virginia - ECPv6.15.20//NONSGML v1.0//EN
CALSCALE:GREGORIAN
METHOD:PUBLISH
X-ORIGINAL-URL:https://visitfloydva.com
X-WR-CALDESC:Events for Visit Floyd Virginia
REFRESH-INTERVAL;VALUE=DURATION:PT1H
X-Robots-Tag:noindex
X-PUBLISHED-TTL:PT1H
BEGIN:VTIMEZONE
TZID:America/New_York
BEGIN:DAYLIGHT
TZOFFSETFROM:-0500
TZOFFSETTO:-0400
TZNAME:EDT
DTSTART:20240310T070000
END:DAYLIGHT
BEGIN:STANDARD
TZOFFSETFROM:-0400
TZOFFSETTO:-0500
TZNAME:EST
DTSTART:20241103T060000
END:STANDARD
BEGIN:DAYLIGHT
TZOFFSETFROM:-0500
TZOFFSETTO:-0400
TZNAME:EDT
DTSTART:20250309T070000
END:DAYLIGHT
BEGIN:STANDARD
TZOFFSETFROM:-0400
TZOFFSETTO:-0500
TZNAME:EST
DTSTART:20251102T060000
END:STANDARD
BEGIN:DAYLIGHT
TZOFFSETFROM:-0500
TZOFFSETTO:-0400
TZNAME:EDT
DTSTART:20260308T070000
END:DAYLIGHT
BEGIN:STANDARD
TZOFFSETFROM:-0400
TZOFFSETTO:-0500
TZNAME:EST
DTSTART:20261101T060000
END:STANDARD
END:VTIMEZONE
BEGIN:VEVENT
DTSTART;TZID=America/New_York:20251005T140000
DTEND;TZID=America/New_York:20251005T160000
DTSTAMP:20260420T202358
CREATED:20251001T205244Z
LAST-MODIFIED:20251001T205244Z
UID:10030440-1759672800-1759680000@visitfloydva.com
SUMMARY:Pete Denahy Concert
DESCRIPTION:Pete Denahy knew when he was 11 years old he wanted to be a country singer. At age 12 he taught himself guitar\, started writing songs and at 13 years old saw Australia’s King of Country Music Slim Dusty in concert for the first time. Twelve years later he was in Slim’s band playing fiddle and doing a comedy spot on the show. While he has written some ridiculous comedy songs\, he is no stranger to writing a heart wrencher\, but he is fully aware that his “silly songs” are the ones that are closest to the hearts of his fans. \nHe cut his teeth in the mid nineties playing fiddle in Melbourne band Ploughboys before joining Slim Dusty on the road in 1998. As his songwriting began to mature\, he turned his pen more often to the less serious side. As a result\, his most requested songs are comedy\, one of them being “Sort Of Dunno Nothin’”\, a tuneless\, storyless number that presents a teenager talking to an adult in the most boring manner possible. This song became something of a hit in 2008 when it was released in Australia. \nHis solo show has evolved into a blend of straight and comedy material interspersed with some solid fiddle playing. His onstage persona is a guy who is an enthusiastic money saver and is proud of the fact he is Yackandandah’s “multi award losing country singer” even though he has won five Golden Guitars at Australia’s Country Music Awards. However\, he seldom mentions this because as he says\, “There’s nothing funny about winning awards.” \nHis latest record “She Loves Me To The Moon” is not a comedy release but a traditional country album featuring his own fiddle playing\, twangy guitars and wailing pedal steel. Produced by Simon Johnson at Hillbilly Hut Studio\, it includes fine playing by some of Australia’s best and a collection of new tracks penned with help from the Wolfe Brothers\, Mike Carr\, Bill Whyte (Nashville) and Evan Murphy (Mile Twelve).
URL:https://visitfloydva.com/event/pete-denahy-concert/
LOCATION:June Bug Center\, 251 Parkway Ln. S.\, Floyd\, VA\, 24091\, United States
CATEGORIES:Entertainment,Music
ATTACH;FMTTYPE=image/png:https://visitfloydva.com/wp-content/uploads/2025/09/Pete_Denahy-Concert.png
ORGANIZER;CN="The June Bug Center for The Arts":MAILTO:resa@thejunebugcenter.com
GEO:36.903013;-80.316736
X-APPLE-STRUCTURED-LOCATION;VALUE=URI;X-ADDRESS=June Bug Center 251 Parkway Ln. S. Floyd VA 24091 United States;X-APPLE-RADIUS=500;X-TITLE=251 Parkway Ln. S.:geo:-80.316736,36.903013
END:VEVENT
BEGIN:VEVENT
DTSTART;TZID=America/New_York:20251011T173000
DTEND;TZID=America/New_York:20251011T190000
DTSTAMP:20260420T202358
CREATED:20241216T144826Z
LAST-MODIFIED:20241216T144826Z
UID:10028081-1760203800-1760209200@visitfloydva.com
SUMMARY:Blue Ridge Story Space
DESCRIPTION:The Blue Ridge Story Space is comprised of folks who love telling and listening to stories. Tell a 5-7 minute story inspired by the monthly theme or just come to listen.\nJoin us on the 2nd Saturday of each month 5:30-7:00 PM at The June Bug Center in Floyd. [251 Parkway Ln S Floyd\, VA]\nThemes for each month are posted on our Facebook page: https://www.facebook.com/blueridgestoryspace\nEvent is free. Snacks and drinks available for purchase support the June Bug Center.\n[Due to ABC liquor license policies NO outside food or drink permitted at this event.] \nAlways interesting & fun. Bring friends!!\n[Adult topics may be shared\, so parental discretion is advised.]
URL:https://visitfloydva.com/event/blue-ridge-story-space-23/2025-10-11/
LOCATION:June Bug Center\, 251 Parkway Ln. S.\, Floyd\, VA\, 24091\, United States
CATEGORIES:Community,Entertainment
GEO:36.903013;-80.316736
X-APPLE-STRUCTURED-LOCATION;VALUE=URI;X-ADDRESS=June Bug Center 251 Parkway Ln. S. Floyd VA 24091 United States;X-APPLE-RADIUS=500;X-TITLE=251 Parkway Ln. S.:geo:-80.316736,36.903013
END:VEVENT
BEGIN:VEVENT
DTSTART;TZID=America/New_York:20251018T170000
DTEND;TZID=America/New_York:20251018T210000
DTSTAMP:20260420T202358
CREATED:20250827T125706Z
LAST-MODIFIED:20250827T125706Z
UID:10030274-1760806800-1760821200@visitfloydva.com
SUMMARY:Citizens Free Community Concert
DESCRIPTION:Citizens is holding a FREE Community Concert on October 18th from 5-9 pm in our vehicle shelter. Enjoy food trucks\, axe throwing and the Floyd Rotary Chili Cook-Off! See Jerry Wimmer and Bottom of the Barrel perform LIVE on stage! Bring your lawn chairs and get ready for an amazing night of music\, food\, friends and fun!
URL:https://visitfloydva.com/event/citizens-free-community-concert/
LOCATION:Citizens Telephone Coop\, 220 Webbs Mill Rd\, Floyd\, VA\, 24091\, United States
CATEGORIES:Community,Entertainment,Family
ATTACH;FMTTYPE=image/jpeg:https://visitfloydva.com/wp-content/uploads/2025/08/CTC-2025-Concert-Bulletin-1920x1080-1.jpg
ORGANIZER;CN="Citizens (Citizens Telephone Cooperative)":MAILTO:marketing@citizens.coop
GEO:36.918296;-80.324699
X-APPLE-STRUCTURED-LOCATION;VALUE=URI;X-ADDRESS=Citizens Telephone Coop 220 Webbs Mill Rd Floyd VA 24091 United States;X-APPLE-RADIUS=500;X-TITLE=220 Webbs Mill Rd:geo:-80.324699,36.918296
END:VEVENT
END:VCALENDAR