BEGIN:VCALENDAR
VERSION:2.0
PRODID:-//Visit Floyd Virginia - ECPv6.15.20//NONSGML v1.0//EN
CALSCALE:GREGORIAN
METHOD:PUBLISH
X-WR-CALNAME:Visit Floyd Virginia
X-ORIGINAL-URL:https://visitfloydva.com
X-WR-CALDESC:Events for Visit Floyd Virginia
REFRESH-INTERVAL;VALUE=DURATION:PT1H
X-Robots-Tag:noindex
X-PUBLISHED-TTL:PT1H
BEGIN:VTIMEZONE
TZID:America/New_York
BEGIN:DAYLIGHT
TZOFFSETFROM:-0500
TZOFFSETTO:-0400
TZNAME:EDT
DTSTART:20240310T070000
END:DAYLIGHT
BEGIN:STANDARD
TZOFFSETFROM:-0400
TZOFFSETTO:-0500
TZNAME:EST
DTSTART:20241103T060000
END:STANDARD
BEGIN:DAYLIGHT
TZOFFSETFROM:-0500
TZOFFSETTO:-0400
TZNAME:EDT
DTSTART:20250309T070000
END:DAYLIGHT
BEGIN:STANDARD
TZOFFSETFROM:-0400
TZOFFSETTO:-0500
TZNAME:EST
DTSTART:20251102T060000
END:STANDARD
BEGIN:DAYLIGHT
TZOFFSETFROM:-0500
TZOFFSETTO:-0400
TZNAME:EDT
DTSTART:20260308T070000
END:DAYLIGHT
BEGIN:STANDARD
TZOFFSETFROM:-0400
TZOFFSETTO:-0500
TZNAME:EST
DTSTART:20261101T060000
END:STANDARD
END:VTIMEZONE
BEGIN:VEVENT
DTSTART;TZID=America/New_York:20250406T190000
DTEND;TZID=America/New_York:20250406T210000
DTSTAMP:20260421T070412
CREATED:20250320T151404Z
LAST-MODIFIED:20250320T151404Z
UID:10030004-1743966000-1743973200@visitfloydva.com
SUMMARY:Sister Sadie
DESCRIPTION:Coming up soon – Join us for an evening of rip-roaring bluegrass with Sister Sadie – @sistersadiemusic – Live at The Floyd Country Store\, Sunday\, April 6th at 7PM. \nSister Sadie is a groundbreaking\, all-female bluegrass band that has become a force to be reckoned with in the genre and beyond. Formed serendipitously during a one-off jam session at Nashville’s legendary Station Inn\, the group’s undeniable chemistry transformed a casual collaboration into a full-time powerhouse. \nToday\, Sister Sadie is celebrated for their electrifying performances\, stellar musicianship and the seamless blend of tradition and innovation they bring to bluegrass music. The band is composed of six supremely talented musicians\, each with a rich history of individual achievements that elevate the collective magic of Sister Sadie. \nTickets available in-person at The Floyd Country Store\nor online at www.FloydCountryStore.com \nCan’t make it to the show? You can livestream it on FloydCountryStore.tv!
URL:https://visitfloydva.com/event/sister-sadie-2/
LOCATION:Floyd Country Store
CATEGORIES:Entertainment,Kid friendly,Music
ATTACH;FMTTYPE=image/png:https://visitfloydva.com/wp-content/uploads/2025/03/Sister-Sadie-Country-Store.png
GEO:36.9103975;-80.3202795
END:VEVENT
BEGIN:VEVENT
DTSTART;TZID=America/New_York:20250412T173000
DTEND;TZID=America/New_York:20250412T190000
DTSTAMP:20260421T070412
CREATED:20241216T144826Z
LAST-MODIFIED:20241216T144826Z
UID:10028075-1744479000-1744484400@visitfloydva.com
SUMMARY:Blue Ridge Story Space
DESCRIPTION:The Blue Ridge Story Space is comprised of folks who love telling and listening to stories. Tell a 5-7 minute story inspired by the monthly theme or just come to listen.\nJoin us on the 2nd Saturday of each month 5:30-7:00 PM at The June Bug Center in Floyd. [251 Parkway Ln S Floyd\, VA]\nThemes for each month are posted on our Facebook page: https://www.facebook.com/blueridgestoryspace\nEvent is free. Snacks and drinks available for purchase support the June Bug Center.\n[Due to ABC liquor license policies NO outside food or drink permitted at this event.] \nAlways interesting & fun. Bring friends!!\n[Adult topics may be shared\, so parental discretion is advised.]
URL:https://visitfloydva.com/event/blue-ridge-story-space-23/2025-04-12/
LOCATION:June Bug Center\, 251 Parkway Ln. S.\, Floyd\, VA\, 24091\, United States
CATEGORIES:Community,Entertainment
GEO:36.903013;-80.316736
X-APPLE-STRUCTURED-LOCATION;VALUE=URI;X-ADDRESS=June Bug Center 251 Parkway Ln. S. Floyd VA 24091 United States;X-APPLE-RADIUS=500;X-TITLE=251 Parkway Ln. S.:geo:-80.316736,36.903013
END:VEVENT
BEGIN:VEVENT
DTSTART;TZID=America/New_York:20250426T100000
DTEND;TZID=America/New_York:20250426T160000
DTSTAMP:20260421T070412
CREATED:20250226T144715Z
LAST-MODIFIED:20250226T144715Z
UID:10028243-1745661600-1745683200@visitfloydva.com
SUMMARY:Floyd Earth Day Celebration
DESCRIPTION:Join us for this FREE community celebration!\nApril 26\, Saturday\, Earth Week Celebration in Lineberry Park\, 10:00-4:00\nHosted by Partnership for Floyd and Springhouse School\nFrom 10:00-4:00 The park will be filled with Nature organizations providing workshops and information including music and a trashy fashion show on stage. Make an Appalachian species puppet\, Free wildflower seeds\, nature treasure hunt\, gardening info\, sign up to be a Master Naturalist or Master Gardener +++ lots more!\n1:00 – 3:00 Appalachian Species Giant Puppet Parade by Springhouse School inviting all of us to participate in a walk through downtown celebrating our native species on Earth Day!
URL:https://visitfloydva.com/event/floyd-earth-day-celebration-2/
LOCATION:Warren G. Lineberry Park\, 250 South Locust St.\, Floyd\, VA\, 24091\, United States
CATEGORIES:Arts & Handcraft,Community,Education,Entertainment,Environment,Family,Holiday,Kid friendly
ATTACH;FMTTYPE=image/jpeg:https://visitfloydva.com/wp-content/uploads/2025/02/puppet-making-park.jpeg
ORGANIZER;CN="Partnership for Floyd":MAILTO:PartnershipForFloyd@gmail.com
GEO:36.90999;-80.3198122
X-APPLE-STRUCTURED-LOCATION;VALUE=URI;X-ADDRESS=Warren G. Lineberry Park 250 South Locust St. Floyd VA 24091 United States;X-APPLE-RADIUS=500;X-TITLE=250 South Locust St.:geo:-80.3198122,36.90999
END:VEVENT
END:VCALENDAR