BEGIN:VCALENDAR
VERSION:2.0
PRODID:-//Visit Floyd Virginia - ECPv6.15.20//NONSGML v1.0//EN
CALSCALE:GREGORIAN
METHOD:PUBLISH
X-ORIGINAL-URL:https://visitfloydva.com
X-WR-CALDESC:Events for Visit Floyd Virginia
REFRESH-INTERVAL;VALUE=DURATION:PT1H
X-Robots-Tag:noindex
X-PUBLISHED-TTL:PT1H
BEGIN:VTIMEZONE
TZID:America/New_York
BEGIN:DAYLIGHT
TZOFFSETFROM:-0500
TZOFFSETTO:-0400
TZNAME:EDT
DTSTART:20230312T070000
END:DAYLIGHT
BEGIN:STANDARD
TZOFFSETFROM:-0400
TZOFFSETTO:-0500
TZNAME:EST
DTSTART:20231105T060000
END:STANDARD
BEGIN:DAYLIGHT
TZOFFSETFROM:-0500
TZOFFSETTO:-0400
TZNAME:EDT
DTSTART:20240310T070000
END:DAYLIGHT
BEGIN:STANDARD
TZOFFSETFROM:-0400
TZOFFSETTO:-0500
TZNAME:EST
DTSTART:20241103T060000
END:STANDARD
BEGIN:DAYLIGHT
TZOFFSETFROM:-0500
TZOFFSETTO:-0400
TZNAME:EDT
DTSTART:20250309T070000
END:DAYLIGHT
BEGIN:STANDARD
TZOFFSETFROM:-0400
TZOFFSETTO:-0500
TZNAME:EST
DTSTART:20251102T060000
END:STANDARD
END:VTIMEZONE
BEGIN:VEVENT
DTSTART;TZID=America/New_York:20240803T170000
DTEND;TZID=America/New_York:20240803T210000
DTSTAMP:20260421T202947
CREATED:20240301T141923Z
LAST-MODIFIED:20240301T141923Z
UID:10029250-1722704400-1722718800@visitfloydva.com
SUMMARY:Citizens Gig Finale Part
DESCRIPTION:Citizens is finishing up our Fiber project and we want you to celebrate with us!. Join us for an evening of entertainment\, food and fun! The Worx will be playing from 6 pm until 9 pm with food trucks from 5 pm to 9 pm!
URL:https://visitfloydva.com/event/citizens-gig-finale-part/
LOCATION:Citizens Telephone Coop\, 220 Webbs Mill Rd\, Floyd\, VA\, 24091\, United States
CATEGORIES:Entertainment,Kid friendly,Music
ORGANIZER;CN="Citizens (Citizens Telephone Cooperative)":MAILTO:marketing@citizens.coop
GEO:36.918296;-80.324699
X-APPLE-STRUCTURED-LOCATION;VALUE=URI;X-ADDRESS=Citizens Telephone Coop 220 Webbs Mill Rd Floyd VA 24091 United States;X-APPLE-RADIUS=500;X-TITLE=220 Webbs Mill Rd:geo:-80.324699,36.918296
END:VEVENT
BEGIN:VEVENT
DTSTART;TZID=America/New_York:20240808T100000
DTEND;TZID=America/New_York:20240808T210000
DTSTAMP:20260421T202947
CREATED:20240805T124546Z
LAST-MODIFIED:20240805T153140Z
UID:10027809-1723111200-1723150800@visitfloydva.com
SUMMARY:YouPick Flowers
DESCRIPTION:Come experience YouPick Flowers every weekend throughout our season. We have sunflowers\, a variety of zinnias\, cosmos\, wildflowers and more! Follow us on FB to find out about popup weekend entertainment like music\, food trucks\, and other activities. \nOur YouPick fields are open Thursday – Sunday 10am-Sunset\nHow the YouPick works\n1) Come to the store\n2) Purchase a container\n3) Pick your heart out! \nWe also have camping available at our campground through 12 November.
URL:https://visitfloydva.com/event/youpick-flowers/2024-08-08/
LOCATION:Crooked Mountain\, 1378 Shooting Creek Rd SE\, Floyd\, VA\, 24091
CATEGORIES:Camping,Entertainment,Gardens,Music
ATTACH;FMTTYPE=image/png:https://visitfloydva.com/wp-content/uploads/2024/08/flower-pics.png
ORGANIZER;CN="Crooked Mountain":MAILTO:crookedmtnva@gmail.com
END:VEVENT
BEGIN:VEVENT
DTSTART;TZID=America/New_York:20240809T100000
DTEND;TZID=America/New_York:20240809T210000
DTSTAMP:20260421T202947
CREATED:20240805T124546Z
LAST-MODIFIED:20240805T153140Z
UID:10027810-1723197600-1723237200@visitfloydva.com
SUMMARY:YouPick Flowers
DESCRIPTION:Come experience YouPick Flowers every weekend throughout our season. We have sunflowers\, a variety of zinnias\, cosmos\, wildflowers and more! Follow us on FB to find out about popup weekend entertainment like music\, food trucks\, and other activities. \nOur YouPick fields are open Thursday – Sunday 10am-Sunset\nHow the YouPick works\n1) Come to the store\n2) Purchase a container\n3) Pick your heart out! \nWe also have camping available at our campground through 12 November.
URL:https://visitfloydva.com/event/youpick-flowers/2024-08-09/
LOCATION:Crooked Mountain\, 1378 Shooting Creek Rd SE\, Floyd\, VA\, 24091
CATEGORIES:Camping,Entertainment,Gardens,Music
ATTACH;FMTTYPE=image/png:https://visitfloydva.com/wp-content/uploads/2024/08/flower-pics.png
ORGANIZER;CN="Crooked Mountain":MAILTO:crookedmtnva@gmail.com
END:VEVENT
BEGIN:VEVENT
DTSTART;TZID=America/New_York:20240810T100000
DTEND;TZID=America/New_York:20240810T210000
DTSTAMP:20260421T202947
CREATED:20240805T124546Z
LAST-MODIFIED:20240805T153140Z
UID:10027811-1723284000-1723323600@visitfloydva.com
SUMMARY:YouPick Flowers
DESCRIPTION:Come experience YouPick Flowers every weekend throughout our season. We have sunflowers\, a variety of zinnias\, cosmos\, wildflowers and more! Follow us on FB to find out about popup weekend entertainment like music\, food trucks\, and other activities. \nOur YouPick fields are open Thursday – Sunday 10am-Sunset\nHow the YouPick works\n1) Come to the store\n2) Purchase a container\n3) Pick your heart out! \nWe also have camping available at our campground through 12 November.
URL:https://visitfloydva.com/event/youpick-flowers/2024-08-10/
LOCATION:Crooked Mountain\, 1378 Shooting Creek Rd SE\, Floyd\, VA\, 24091
CATEGORIES:Camping,Entertainment,Gardens,Music
ATTACH;FMTTYPE=image/png:https://visitfloydva.com/wp-content/uploads/2024/08/flower-pics.png
ORGANIZER;CN="Crooked Mountain":MAILTO:crookedmtnva@gmail.com
END:VEVENT
BEGIN:VEVENT
DTSTART;TZID=America/New_York:20240811T100000
DTEND;TZID=America/New_York:20240811T210000
DTSTAMP:20260421T202947
CREATED:20240805T124546Z
LAST-MODIFIED:20240805T153140Z
UID:10027812-1723370400-1723410000@visitfloydva.com
SUMMARY:YouPick Flowers
DESCRIPTION:Come experience YouPick Flowers every weekend throughout our season. We have sunflowers\, a variety of zinnias\, cosmos\, wildflowers and more! Follow us on FB to find out about popup weekend entertainment like music\, food trucks\, and other activities. \nOur YouPick fields are open Thursday – Sunday 10am-Sunset\nHow the YouPick works\n1) Come to the store\n2) Purchase a container\n3) Pick your heart out! \nWe also have camping available at our campground through 12 November.
URL:https://visitfloydva.com/event/youpick-flowers/2024-08-11/
LOCATION:Crooked Mountain\, 1378 Shooting Creek Rd SE\, Floyd\, VA\, 24091
CATEGORIES:Camping,Entertainment,Gardens,Music
ATTACH;FMTTYPE=image/png:https://visitfloydva.com/wp-content/uploads/2024/08/flower-pics.png
ORGANIZER;CN="Crooked Mountain":MAILTO:crookedmtnva@gmail.com
END:VEVENT
BEGIN:VEVENT
DTSTART;TZID=America/New_York:20240815T100000
DTEND;TZID=America/New_York:20240815T210000
DTSTAMP:20260421T202947
CREATED:20240805T124546Z
LAST-MODIFIED:20240805T153140Z
UID:10027813-1723716000-1723755600@visitfloydva.com
SUMMARY:YouPick Flowers
DESCRIPTION:Come experience YouPick Flowers every weekend throughout our season. We have sunflowers\, a variety of zinnias\, cosmos\, wildflowers and more! Follow us on FB to find out about popup weekend entertainment like music\, food trucks\, and other activities. \nOur YouPick fields are open Thursday – Sunday 10am-Sunset\nHow the YouPick works\n1) Come to the store\n2) Purchase a container\n3) Pick your heart out! \nWe also have camping available at our campground through 12 November.
URL:https://visitfloydva.com/event/youpick-flowers/2024-08-15/
LOCATION:Crooked Mountain\, 1378 Shooting Creek Rd SE\, Floyd\, VA\, 24091
CATEGORIES:Camping,Entertainment,Gardens,Music
ATTACH;FMTTYPE=image/png:https://visitfloydva.com/wp-content/uploads/2024/08/flower-pics.png
ORGANIZER;CN="Crooked Mountain":MAILTO:crookedmtnva@gmail.com
END:VEVENT
BEGIN:VEVENT
DTSTART;TZID=America/New_York:20240816T100000
DTEND;TZID=America/New_York:20240816T210000
DTSTAMP:20260421T202947
CREATED:20240805T124546Z
LAST-MODIFIED:20240805T153140Z
UID:10027814-1723802400-1723842000@visitfloydva.com
SUMMARY:YouPick Flowers
DESCRIPTION:Come experience YouPick Flowers every weekend throughout our season. We have sunflowers\, a variety of zinnias\, cosmos\, wildflowers and more! Follow us on FB to find out about popup weekend entertainment like music\, food trucks\, and other activities. \nOur YouPick fields are open Thursday – Sunday 10am-Sunset\nHow the YouPick works\n1) Come to the store\n2) Purchase a container\n3) Pick your heart out! \nWe also have camping available at our campground through 12 November.
URL:https://visitfloydva.com/event/youpick-flowers/2024-08-16/
LOCATION:Crooked Mountain\, 1378 Shooting Creek Rd SE\, Floyd\, VA\, 24091
CATEGORIES:Camping,Entertainment,Gardens,Music
ATTACH;FMTTYPE=image/png:https://visitfloydva.com/wp-content/uploads/2024/08/flower-pics.png
ORGANIZER;CN="Crooked Mountain":MAILTO:crookedmtnva@gmail.com
END:VEVENT
BEGIN:VEVENT
DTSTART;TZID=America/New_York:20240817T100000
DTEND;TZID=America/New_York:20240817T210000
DTSTAMP:20260421T202947
CREATED:20240805T124546Z
LAST-MODIFIED:20240805T153140Z
UID:10027815-1723888800-1723928400@visitfloydva.com
SUMMARY:YouPick Flowers
DESCRIPTION:Come experience YouPick Flowers every weekend throughout our season. We have sunflowers\, a variety of zinnias\, cosmos\, wildflowers and more! Follow us on FB to find out about popup weekend entertainment like music\, food trucks\, and other activities. \nOur YouPick fields are open Thursday – Sunday 10am-Sunset\nHow the YouPick works\n1) Come to the store\n2) Purchase a container\n3) Pick your heart out! \nWe also have camping available at our campground through 12 November.
URL:https://visitfloydva.com/event/youpick-flowers/2024-08-17/
LOCATION:Crooked Mountain\, 1378 Shooting Creek Rd SE\, Floyd\, VA\, 24091
CATEGORIES:Camping,Entertainment,Gardens,Music
ATTACH;FMTTYPE=image/png:https://visitfloydva.com/wp-content/uploads/2024/08/flower-pics.png
ORGANIZER;CN="Crooked Mountain":MAILTO:crookedmtnva@gmail.com
END:VEVENT
BEGIN:VEVENT
DTSTART;TZID=America/New_York:20240818T100000
DTEND;TZID=America/New_York:20240818T210000
DTSTAMP:20260421T202947
CREATED:20240805T124546Z
LAST-MODIFIED:20240805T153140Z
UID:10027816-1723975200-1724014800@visitfloydva.com
SUMMARY:YouPick Flowers
DESCRIPTION:Come experience YouPick Flowers every weekend throughout our season. We have sunflowers\, a variety of zinnias\, cosmos\, wildflowers and more! Follow us on FB to find out about popup weekend entertainment like music\, food trucks\, and other activities. \nOur YouPick fields are open Thursday – Sunday 10am-Sunset\nHow the YouPick works\n1) Come to the store\n2) Purchase a container\n3) Pick your heart out! \nWe also have camping available at our campground through 12 November.
URL:https://visitfloydva.com/event/youpick-flowers/2024-08-18/
LOCATION:Crooked Mountain\, 1378 Shooting Creek Rd SE\, Floyd\, VA\, 24091
CATEGORIES:Camping,Entertainment,Gardens,Music
ATTACH;FMTTYPE=image/png:https://visitfloydva.com/wp-content/uploads/2024/08/flower-pics.png
ORGANIZER;CN="Crooked Mountain":MAILTO:crookedmtnva@gmail.com
END:VEVENT
BEGIN:VEVENT
DTSTART;TZID=America/New_York:20240822T100000
DTEND;TZID=America/New_York:20240822T210000
DTSTAMP:20260421T202947
CREATED:20240805T124546Z
LAST-MODIFIED:20240805T153140Z
UID:10027817-1724320800-1724360400@visitfloydva.com
SUMMARY:YouPick Flowers
DESCRIPTION:Come experience YouPick Flowers every weekend throughout our season. We have sunflowers\, a variety of zinnias\, cosmos\, wildflowers and more! Follow us on FB to find out about popup weekend entertainment like music\, food trucks\, and other activities. \nOur YouPick fields are open Thursday – Sunday 10am-Sunset\nHow the YouPick works\n1) Come to the store\n2) Purchase a container\n3) Pick your heart out! \nWe also have camping available at our campground through 12 November.
URL:https://visitfloydva.com/event/youpick-flowers/2024-08-22/
LOCATION:Crooked Mountain\, 1378 Shooting Creek Rd SE\, Floyd\, VA\, 24091
CATEGORIES:Camping,Entertainment,Gardens,Music
ATTACH;FMTTYPE=image/png:https://visitfloydva.com/wp-content/uploads/2024/08/flower-pics.png
ORGANIZER;CN="Crooked Mountain":MAILTO:crookedmtnva@gmail.com
END:VEVENT
BEGIN:VEVENT
DTSTART;TZID=America/New_York:20240823T100000
DTEND;TZID=America/New_York:20240823T210000
DTSTAMP:20260421T202947
CREATED:20240805T124546Z
LAST-MODIFIED:20240805T153140Z
UID:10027818-1724407200-1724446800@visitfloydva.com
SUMMARY:YouPick Flowers
DESCRIPTION:Come experience YouPick Flowers every weekend throughout our season. We have sunflowers\, a variety of zinnias\, cosmos\, wildflowers and more! Follow us on FB to find out about popup weekend entertainment like music\, food trucks\, and other activities. \nOur YouPick fields are open Thursday – Sunday 10am-Sunset\nHow the YouPick works\n1) Come to the store\n2) Purchase a container\n3) Pick your heart out! \nWe also have camping available at our campground through 12 November.
URL:https://visitfloydva.com/event/youpick-flowers/2024-08-23/
LOCATION:Crooked Mountain\, 1378 Shooting Creek Rd SE\, Floyd\, VA\, 24091
CATEGORIES:Camping,Entertainment,Gardens,Music
ATTACH;FMTTYPE=image/png:https://visitfloydva.com/wp-content/uploads/2024/08/flower-pics.png
ORGANIZER;CN="Crooked Mountain":MAILTO:crookedmtnva@gmail.com
END:VEVENT
BEGIN:VEVENT
DTSTART;TZID=America/New_York:20240823T180000
DTEND;TZID=America/New_York:20240823T200000
DTSTAMP:20260421T202947
CREATED:20240730T135341Z
LAST-MODIFIED:20240730T135341Z
UID:10029504-1724436000-1724443200@visitfloydva.com
SUMMARY:Floyd Living Traditions Festival Kick Off Event
DESCRIPTION:“The Heron’s Journey” by Adam Booth- Floyd Living Traditions Festival Kick Off Event \n“The Heron’s Journey” is a 60-75 minute story told without intermission. It is a neo-traditional\, original story about a young boy who finds his true place in life while on a journey during which he transitions into a great blue heron. “The Heron’s Journey” is primarily about identity and creation. Some listeners hear it through the lens of power dynamics\, listening to intuition\, and environmentalism or access to the natural world. Audiences have been captivated by this tale and find it speaks to them on a variety of very personal levels. All of Adam’s stories are family-friendly in content\, however “The Heron’s Journey” is intended for mature listeners. Adam collaborated with three West Virginia artists during the creation of this story. \n​​\n​Adam Booth (he/him) is the 2022 West Virginia Folk Artist of the Year\, awarded at the Governor’s Arts Awards. Adam blends traditional mountain folklore\, music\, and an awareness of contemporary Appalachia to create original\, forward-thinking story artistry. Adam’s new multidisciplinary program The Heron’s Journey has been selected for the 2024-2025 Mid Atlantic Arts Touring Roster. As a nationally touring artist\, his professional telling appearances include premiere storytelling events across the United States\, including the Kennedy Center Millennium Stage\, the International Storytelling Center\, the National Storytelling Festival\, the Timpanogos Storytelling Festival\, the Appalachian Studies Association Conference\, the National Storytelling Conference\, the National Academy of Medicine\, and as a Spoken Word Resident at the Banff Centre (Alberta\, Canada). He is a member of the Recording Academy and his recordings have received many national honors\, including a Parents’ Choice Gold Award. Adam serves as the inaugural Storyteller-In-Residence at Shepherd University and is the founding artistic director of Speak Story Series\, a premier destination for storytelling in concert. \nEvent Schedule: Opening at 6pm with Floyd Jams\, followed by performance by Adam Booth \nRegistration Information: Adults- $20\, Students- FREE. See link below for more information and tickets \nVenue Information: The June Bug Center\, 251 Parkway Lane S\, Floyd VA 24091​ \nThe June Bug Center is ADA accessible. \nThis project is made possible by Mid Atlantic Arts’ Central Appalachia Living Traditions program & Mid Atlantic Tours program of Mid Atlantic Arts with support from the National Endowment for the Arts.
URL:https://visitfloydva.com/event/floyd-living-traditions-festival-kick-off-event/
LOCATION:June Bug Center\, 251 Parkway Ln. S.\, Floyd\, VA\, 24091\, United States
CATEGORIES:Arts & Handcraft,Community,Dance,Entertainment,Family,Festivals
ATTACH;FMTTYPE=image/png:https://visitfloydva.com/wp-content/uploads/2024/07/Adam-BoothFINAL-11.249-x-6-in.png
GEO:36.903013;-80.316736
X-APPLE-STRUCTURED-LOCATION;VALUE=URI;X-ADDRESS=June Bug Center 251 Parkway Ln. S. Floyd VA 24091 United States;X-APPLE-RADIUS=500;X-TITLE=251 Parkway Ln. S.:geo:-80.316736,36.903013
END:VEVENT
BEGIN:VEVENT
DTSTART;TZID=America/New_York:20240824T100000
DTEND;TZID=America/New_York:20240824T180000
DTSTAMP:20260421T202947
CREATED:20240410T184707Z
LAST-MODIFIED:20240812T194844Z
UID:10027715-1724493600-1724522400@visitfloydva.com
SUMMARY:Floyd Living Traditions Festival
DESCRIPTION:Known for its bluegrass and old-time music\, along with a lively arts scene\, Floyd\, Virginia\, will celebrate its rich artistic heritage on Saturday\, August 24\, 2024\, with the Floyd Living Traditions Festival. The festival\, hosted by the Floyd Center for the Arts in partnership with the Floyd Country Store’s Handmade Music School\, will feature music on two stages and fun for the whole family. More than 70 artists will be on hand to perform\, offer works for sale\, and demonstrate Floyd traditions such as quilting\, spinning\, instrument making\, weaving\, blacksmithing\, woodworking\, and basketmaking. Food trucks\, an outdoor beer garden\, kids activities\, and opportunities to learn and create firsthand await! Saturday’s all-day event takes place both inside and out at the dairy barn campus of the Floyd Center for the Arts located at 220 Parkway Lane South (VA-8) on the edge of downtown. Admission to the festival is free on Saturday. For more information about the two-day festival and tickets to Friday’s kickoff event August 23rd 6p at the June Bug Center can be found at www.floydartcenter.org \nThis event is sponsored by Skyline National Bank. This project is made possible by Mid Atlantic Arts’ Central Appalachia Living Traditions program.
URL:https://visitfloydva.com/event/floyd-living-traditions-festival-kickoff-event/
LOCATION:Floyd Center for the Arts\, 220 Parkway Lane S\, Floyd\, VA\, 24091\, United States
CATEGORIES:Arts & Handcraft,Community,Dance,Dining,Education,Entertainment,Family,Festivals,Music
ATTACH;FMTTYPE=image/png:https://visitfloydva.com/wp-content/uploads/2024/04/FLTF_SQ_2024.png
GEO:36.9039185;-80.3170382
X-APPLE-STRUCTURED-LOCATION;VALUE=URI;X-ADDRESS=Floyd Center for the Arts 220 Parkway Lane S Floyd VA 24091 United States;X-APPLE-RADIUS=500;X-TITLE=220 Parkway Lane S:geo:-80.3170382,36.9039185
END:VEVENT
BEGIN:VEVENT
DTSTART;TZID=America/New_York:20240824T100000
DTEND;TZID=America/New_York:20240824T210000
DTSTAMP:20260421T202947
CREATED:20240805T124546Z
LAST-MODIFIED:20240805T153140Z
UID:10027819-1724493600-1724533200@visitfloydva.com
SUMMARY:YouPick Flowers
DESCRIPTION:Come experience YouPick Flowers every weekend throughout our season. We have sunflowers\, a variety of zinnias\, cosmos\, wildflowers and more! Follow us on FB to find out about popup weekend entertainment like music\, food trucks\, and other activities. \nOur YouPick fields are open Thursday – Sunday 10am-Sunset\nHow the YouPick works\n1) Come to the store\n2) Purchase a container\n3) Pick your heart out! \nWe also have camping available at our campground through 12 November.
URL:https://visitfloydva.com/event/youpick-flowers/2024-08-24/
LOCATION:Crooked Mountain\, 1378 Shooting Creek Rd SE\, Floyd\, VA\, 24091
CATEGORIES:Camping,Entertainment,Gardens,Music
ATTACH;FMTTYPE=image/png:https://visitfloydva.com/wp-content/uploads/2024/08/flower-pics.png
ORGANIZER;CN="Crooked Mountain":MAILTO:crookedmtnva@gmail.com
END:VEVENT
BEGIN:VEVENT
DTSTART;TZID=America/New_York:20240825T100000
DTEND;TZID=America/New_York:20240825T210000
DTSTAMP:20260421T202947
CREATED:20240805T124546Z
LAST-MODIFIED:20240805T153140Z
UID:10027820-1724580000-1724619600@visitfloydva.com
SUMMARY:YouPick Flowers
DESCRIPTION:Come experience YouPick Flowers every weekend throughout our season. We have sunflowers\, a variety of zinnias\, cosmos\, wildflowers and more! Follow us on FB to find out about popup weekend entertainment like music\, food trucks\, and other activities. \nOur YouPick fields are open Thursday – Sunday 10am-Sunset\nHow the YouPick works\n1) Come to the store\n2) Purchase a container\n3) Pick your heart out! \nWe also have camping available at our campground through 12 November.
URL:https://visitfloydva.com/event/youpick-flowers/2024-08-25/
LOCATION:Crooked Mountain\, 1378 Shooting Creek Rd SE\, Floyd\, VA\, 24091
CATEGORIES:Camping,Entertainment,Gardens,Music
ATTACH;FMTTYPE=image/png:https://visitfloydva.com/wp-content/uploads/2024/08/flower-pics.png
ORGANIZER;CN="Crooked Mountain":MAILTO:crookedmtnva@gmail.com
END:VEVENT
BEGIN:VEVENT
DTSTART;TZID=America/New_York:20240829T100000
DTEND;TZID=America/New_York:20240829T210000
DTSTAMP:20260421T202947
CREATED:20240805T124546Z
LAST-MODIFIED:20240805T153140Z
UID:10027821-1724925600-1724965200@visitfloydva.com
SUMMARY:YouPick Flowers
DESCRIPTION:Come experience YouPick Flowers every weekend throughout our season. We have sunflowers\, a variety of zinnias\, cosmos\, wildflowers and more! Follow us on FB to find out about popup weekend entertainment like music\, food trucks\, and other activities. \nOur YouPick fields are open Thursday – Sunday 10am-Sunset\nHow the YouPick works\n1) Come to the store\n2) Purchase a container\n3) Pick your heart out! \nWe also have camping available at our campground through 12 November.
URL:https://visitfloydva.com/event/youpick-flowers/2024-08-29/
LOCATION:Crooked Mountain\, 1378 Shooting Creek Rd SE\, Floyd\, VA\, 24091
CATEGORIES:Camping,Entertainment,Gardens,Music
ATTACH;FMTTYPE=image/png:https://visitfloydva.com/wp-content/uploads/2024/08/flower-pics.png
ORGANIZER;CN="Crooked Mountain":MAILTO:crookedmtnva@gmail.com
END:VEVENT
BEGIN:VEVENT
DTSTART;TZID=America/New_York:20240830T100000
DTEND;TZID=America/New_York:20240830T210000
DTSTAMP:20260421T202947
CREATED:20240805T124546Z
LAST-MODIFIED:20240805T153140Z
UID:10027822-1725012000-1725051600@visitfloydva.com
SUMMARY:YouPick Flowers
DESCRIPTION:Come experience YouPick Flowers every weekend throughout our season. We have sunflowers\, a variety of zinnias\, cosmos\, wildflowers and more! Follow us on FB to find out about popup weekend entertainment like music\, food trucks\, and other activities. \nOur YouPick fields are open Thursday – Sunday 10am-Sunset\nHow the YouPick works\n1) Come to the store\n2) Purchase a container\n3) Pick your heart out! \nWe also have camping available at our campground through 12 November.
URL:https://visitfloydva.com/event/youpick-flowers/2024-08-30/
LOCATION:Crooked Mountain\, 1378 Shooting Creek Rd SE\, Floyd\, VA\, 24091
CATEGORIES:Camping,Entertainment,Gardens,Music
ATTACH;FMTTYPE=image/png:https://visitfloydva.com/wp-content/uploads/2024/08/flower-pics.png
ORGANIZER;CN="Crooked Mountain":MAILTO:crookedmtnva@gmail.com
END:VEVENT
BEGIN:VEVENT
DTSTART;TZID=America/New_York:20240831T100000
DTEND;TZID=America/New_York:20240831T210000
DTSTAMP:20260421T202947
CREATED:20240805T124546Z
LAST-MODIFIED:20240805T153140Z
UID:10027823-1725098400-1725138000@visitfloydva.com
SUMMARY:YouPick Flowers
DESCRIPTION:Come experience YouPick Flowers every weekend throughout our season. We have sunflowers\, a variety of zinnias\, cosmos\, wildflowers and more! Follow us on FB to find out about popup weekend entertainment like music\, food trucks\, and other activities. \nOur YouPick fields are open Thursday – Sunday 10am-Sunset\nHow the YouPick works\n1) Come to the store\n2) Purchase a container\n3) Pick your heart out! \nWe also have camping available at our campground through 12 November.
URL:https://visitfloydva.com/event/youpick-flowers/2024-08-31/
LOCATION:Crooked Mountain\, 1378 Shooting Creek Rd SE\, Floyd\, VA\, 24091
CATEGORIES:Camping,Entertainment,Gardens,Music
ATTACH;FMTTYPE=image/png:https://visitfloydva.com/wp-content/uploads/2024/08/flower-pics.png
ORGANIZER;CN="Crooked Mountain":MAILTO:crookedmtnva@gmail.com
END:VEVENT
END:VCALENDAR