BEGIN:VCALENDAR
VERSION:2.0
PRODID:-//Visit Floyd Virginia - ECPv6.15.20//NONSGML v1.0//EN
CALSCALE:GREGORIAN
METHOD:PUBLISH
X-WR-CALNAME:Visit Floyd Virginia
X-ORIGINAL-URL:https://visitfloydva.com
X-WR-CALDESC:Events for Visit Floyd Virginia
REFRESH-INTERVAL;VALUE=DURATION:PT1H
X-Robots-Tag:noindex
X-PUBLISHED-TTL:PT1H
BEGIN:VTIMEZONE
TZID:America/New_York
BEGIN:DAYLIGHT
TZOFFSETFROM:-0500
TZOFFSETTO:-0400
TZNAME:EDT
DTSTART:20250309T070000
END:DAYLIGHT
BEGIN:STANDARD
TZOFFSETFROM:-0400
TZOFFSETTO:-0500
TZNAME:EST
DTSTART:20251102T060000
END:STANDARD
BEGIN:DAYLIGHT
TZOFFSETFROM:-0500
TZOFFSETTO:-0400
TZNAME:EDT
DTSTART:20260308T070000
END:DAYLIGHT
BEGIN:STANDARD
TZOFFSETFROM:-0400
TZOFFSETTO:-0500
TZNAME:EST
DTSTART:20261101T060000
END:STANDARD
BEGIN:DAYLIGHT
TZOFFSETFROM:-0500
TZOFFSETTO:-0400
TZNAME:EDT
DTSTART:20270314T070000
END:DAYLIGHT
BEGIN:STANDARD
TZOFFSETFROM:-0400
TZOFFSETTO:-0500
TZNAME:EST
DTSTART:20271107T060000
END:STANDARD
END:VTIMEZONE
BEGIN:VEVENT
DTSTART;TZID=America/New_York:20260919T110000
DTEND;TZID=America/New_York:20260919T150000
DTSTAMP:20260420T003221
CREATED:20251201T184105Z
LAST-MODIFIED:20251201T184105Z
UID:10030875-1789815600-1789830000@visitfloydva.com
SUMMARY:Annual Floyd Emergency Preparedness Fair
DESCRIPTION:FREE Important Community Service Event!\nSponsored by Partnership for Floyd & Local Emergency Services\nFloyd County Emergency teams (Fire\, Ambulance\, Sheriff) \, New River Valley Emergency Services\, Red Cross and other important organizations will be presenting demonstrations\, information and panel discussions FREE for our community. After Hurricane Helene and other recent disasters\, it is clear we could be better prepared\, especially in rural communities like ours\, where we might be isolated from services. This is a very special opportunity to get to know those who help us when times are tough and learn how we can better prepare ourselves to thrive together in these changing times. Sign up for rural skills classes. Food and drink will be available all day. Bring the family. Spend the day learning from experts!
URL:https://visitfloydva.com/event/annual-floyd-emergency-preparedness-fair/
LOCATION:Floyd EcoVillage\, 188 EcoVillage Trl SE\, Floyd\, VA\, 24091\, United States
CATEGORIES:Community,Education
ATTACH;FMTTYPE=image/jpeg:https://visitfloydva.com/wp-content/uploads/2025/12/pic-collage-Floyd-County-Emergency-Preparedness-Fair.jpeg
ORGANIZER;CN="Partnership for Floyd":MAILTO:PartnershipForFloyd@gmail.com
GEO:36.9132692;-80.2835861
X-APPLE-STRUCTURED-LOCATION;VALUE=URI;X-ADDRESS=Floyd EcoVillage 188 EcoVillage Trl SE Floyd VA 24091 United States;X-APPLE-RADIUS=500;X-TITLE=188 EcoVillage Trl SE:geo:-80.2835861,36.9132692
END:VEVENT
END:VCALENDAR