BEGIN:VCALENDAR
VERSION:2.0
PRODID:-//Visit Floyd Virginia - ECPv6.15.20//NONSGML v1.0//EN
CALSCALE:GREGORIAN
METHOD:PUBLISH
X-ORIGINAL-URL:https://visitfloydva.com
X-WR-CALDESC:Events for Visit Floyd Virginia
REFRESH-INTERVAL;VALUE=DURATION:PT1H
X-Robots-Tag:noindex
X-PUBLISHED-TTL:PT1H
BEGIN:VTIMEZONE
TZID:America/New_York
BEGIN:DAYLIGHT
TZOFFSETFROM:-0500
TZOFFSETTO:-0400
TZNAME:EDT
DTSTART:20250309T070000
END:DAYLIGHT
BEGIN:STANDARD
TZOFFSETFROM:-0400
TZOFFSETTO:-0500
TZNAME:EST
DTSTART:20251102T060000
END:STANDARD
BEGIN:DAYLIGHT
TZOFFSETFROM:-0500
TZOFFSETTO:-0400
TZNAME:EDT
DTSTART:20260308T070000
END:DAYLIGHT
BEGIN:STANDARD
TZOFFSETFROM:-0400
TZOFFSETTO:-0500
TZNAME:EST
DTSTART:20261101T060000
END:STANDARD
BEGIN:DAYLIGHT
TZOFFSETFROM:-0500
TZOFFSETTO:-0400
TZNAME:EDT
DTSTART:20270314T070000
END:DAYLIGHT
BEGIN:STANDARD
TZOFFSETFROM:-0400
TZOFFSETTO:-0500
TZNAME:EST
DTSTART:20271107T060000
END:STANDARD
END:VTIMEZONE
BEGIN:VEVENT
DTSTART;TZID=America/New_York:20260307T140000
DTEND;TZID=America/New_York:20260307T160000
DTSTAMP:20260420T003519
CREATED:20260223T152708Z
LAST-MODIFIED:20260223T152708Z
UID:10032135-1772892000-1772899200@visitfloydva.com
SUMMARY:All About Chainsaws!
DESCRIPTION:Learn from Paul Kitchen – a certified sawyer with the Parkway. An experienced\, excellent teacher!\n– Types of saws. Small or big? Gas or battery?\n– Saw chain types\, lengths\, uses and sharpening\n– Safety equipment and use\n– Differences in cutting a high branch\, a fallen tree\, a leaning tree or a standing tree.\n– Chainsaw maintenance
URL:https://visitfloydva.com/event/all-about-chainsaws/
LOCATION:Floyd EcoVillage\, 188 EcoVillage Trl SE\, Floyd\, VA\, 24091\, United States
CATEGORIES:Education,Gardens,Workshop
ATTACH;FMTTYPE=image/jpeg:https://visitfloydva.com/wp-content/uploads/2026/02/All-about-CHAINSAWS-cropped.jpeg
ORGANIZER;CN="Partnership for Floyd":MAILTO:PartnershipForFloyd@gmail.com
GEO:36.9132692;-80.2835861
X-APPLE-STRUCTURED-LOCATION;VALUE=URI;X-ADDRESS=Floyd EcoVillage 188 EcoVillage Trl SE Floyd VA 24091 United States;X-APPLE-RADIUS=500;X-TITLE=188 EcoVillage Trl SE:geo:-80.2835861,36.9132692
END:VEVENT
END:VCALENDAR