BEGIN:VCALENDAR
VERSION:2.0
PRODID:-//Visit Floyd Virginia - ECPv6.15.20//NONSGML v1.0//EN
CALSCALE:GREGORIAN
METHOD:PUBLISH
X-WR-CALNAME:Visit Floyd Virginia
X-ORIGINAL-URL:https://visitfloydva.com
X-WR-CALDESC:Events for Visit Floyd Virginia
REFRESH-INTERVAL;VALUE=DURATION:PT1H
X-Robots-Tag:noindex
X-PUBLISHED-TTL:PT1H
BEGIN:VTIMEZONE
TZID:America/New_York
BEGIN:DAYLIGHT
TZOFFSETFROM:-0500
TZOFFSETTO:-0400
TZNAME:EDT
DTSTART:20230312T070000
END:DAYLIGHT
BEGIN:STANDARD
TZOFFSETFROM:-0400
TZOFFSETTO:-0500
TZNAME:EST
DTSTART:20231105T060000
END:STANDARD
BEGIN:DAYLIGHT
TZOFFSETFROM:-0500
TZOFFSETTO:-0400
TZNAME:EDT
DTSTART:20240310T070000
END:DAYLIGHT
BEGIN:STANDARD
TZOFFSETFROM:-0400
TZOFFSETTO:-0500
TZNAME:EST
DTSTART:20241103T060000
END:STANDARD
BEGIN:DAYLIGHT
TZOFFSETFROM:-0500
TZOFFSETTO:-0400
TZNAME:EDT
DTSTART:20250309T070000
END:DAYLIGHT
BEGIN:STANDARD
TZOFFSETFROM:-0400
TZOFFSETTO:-0500
TZNAME:EST
DTSTART:20251102T060000
END:STANDARD
BEGIN:DAYLIGHT
TZOFFSETFROM:-0500
TZOFFSETTO:-0400
TZNAME:EDT
DTSTART:20260308T070000
END:DAYLIGHT
BEGIN:STANDARD
TZOFFSETFROM:-0400
TZOFFSETTO:-0500
TZNAME:EST
DTSTART:20261101T060000
END:STANDARD
END:VTIMEZONE
BEGIN:VEVENT
DTSTART;TZID=America/New_York:20251018T130000
DTEND;TZID=America/New_York:20251018T180000
DTSTAMP:20260420T032351
CREATED:20251015T165310Z
LAST-MODIFIED:20251015T165310Z
UID:10030670-1760792400-1760810400@visitfloydva.com
SUMMARY:Oktoberfest at Deer Park Farm
DESCRIPTION:Join us for our first-ever Oktoberfest at Deer Park Farm! This family-friendly\, alcohol-free event is all about good food\, community\, and celebrating the harvest season.\nHere’s what you can look forward to:\nKitchen Tours – Take a behind-the-scenes look at where the magic happens.\nKrautober Celebration – Sample and shop our featured sauerkrauts and other fermented favorites\, all part of our October Krautober promotion.\nDelicious Food Offerings – Fresh\, local flavors straight from our kitchen.\nFamily Fun – A welcoming afternoon designed for all ages.\nBring your family\, bring your friends\, and celebrate the season with us here at the farm.\nAdmission: Free and open to the public
URL:https://visitfloydva.com/event/oktoberfest-at-deer-park-farm/
LOCATION:Deer Park Farm\, 317 Deer Park Way NE\, Pilot\, VA\, 24138
CATEGORIES:Dance,Dining,Family,Festivals,Kid friendly
ORGANIZER;CN="Deer Park Farm%2C LLC":MAILTO:deerparkfarmva@gmail.com
END:VEVENT
BEGIN:VEVENT
DTSTART;TZID=America/New_York:20250411T121500
DTEND;TZID=America/New_York:20250411T131500
DTSTAMP:20260420T032351
CREATED:20240927T215751Z
LAST-MODIFIED:20240927T215755Z
UID:10027901-1744373700-1744377300@visitfloydva.com
SUMMARY:Community Meal
DESCRIPTION:Springhouse’s monthly Community Meals are held to welcome people from around the region to enjoy connection with students and staff as well as learn about the vital work we are doing in education. This school year\, join us for a trip through the Americas – starting with the United States and heading south through Central America and on into South American countries. Students help prepare these meals and will share each time about what they’re learning from each country. Learn more and see all meal dates here: https://springhouse.org/series/community-meals/
URL:https://visitfloydva.com/event/community-meal-3/2025-04-11/
LOCATION:Springhouse\, 144 Silver Maple Lane\, Pilot\, VA\, 24138\, United States
CATEGORIES:Community,Dining,Education
ATTACH;FMTTYPE=image/png:https://visitfloydva.com/wp-content/uploads/2024/09/Community-Meal-Header1.png
ORGANIZER;CN="Springhouse Community School":MAILTO:info@springhousecommunityschool.org
GEO:36.9098462;-80.2849966
X-APPLE-STRUCTURED-LOCATION;VALUE=URI;X-ADDRESS=Springhouse 144 Silver Maple Lane Pilot VA 24138 United States;X-APPLE-RADIUS=500;X-TITLE=144 Silver Maple Lane:geo:-80.2849966,36.9098462
END:VEVENT
BEGIN:VEVENT
DTSTART;TZID=America/New_York:20250314T121500
DTEND;TZID=America/New_York:20250314T131500
DTSTAMP:20260420T032351
CREATED:20240927T215751Z
LAST-MODIFIED:20240927T215755Z
UID:10027900-1741954500-1741958100@visitfloydva.com
SUMMARY:Community Meal
DESCRIPTION:Springhouse’s monthly Community Meals are held to welcome people from around the region to enjoy connection with students and staff as well as learn about the vital work we are doing in education. This school year\, join us for a trip through the Americas – starting with the United States and heading south through Central America and on into South American countries. Students help prepare these meals and will share each time about what they’re learning from each country. Learn more and see all meal dates here: https://springhouse.org/series/community-meals/
URL:https://visitfloydva.com/event/community-meal-3/2025-03-14/
LOCATION:Springhouse\, 144 Silver Maple Lane\, Pilot\, VA\, 24138\, United States
CATEGORIES:Community,Dining,Education
ATTACH;FMTTYPE=image/png:https://visitfloydva.com/wp-content/uploads/2024/09/Community-Meal-Header1.png
ORGANIZER;CN="Springhouse Community School":MAILTO:info@springhousecommunityschool.org
GEO:36.9098462;-80.2849966
X-APPLE-STRUCTURED-LOCATION;VALUE=URI;X-ADDRESS=Springhouse 144 Silver Maple Lane Pilot VA 24138 United States;X-APPLE-RADIUS=500;X-TITLE=144 Silver Maple Lane:geo:-80.2849966,36.9098462
END:VEVENT
BEGIN:VEVENT
DTSTART;TZID=America/New_York:20250214T121500
DTEND;TZID=America/New_York:20250214T131500
DTSTAMP:20260420T032351
CREATED:20240927T215751Z
LAST-MODIFIED:20240927T215755Z
UID:10027899-1739535300-1739538900@visitfloydva.com
SUMMARY:Community Meal
DESCRIPTION:Springhouse’s monthly Community Meals are held to welcome people from around the region to enjoy connection with students and staff as well as learn about the vital work we are doing in education. This school year\, join us for a trip through the Americas – starting with the United States and heading south through Central America and on into South American countries. Students help prepare these meals and will share each time about what they’re learning from each country. Learn more and see all meal dates here: https://springhouse.org/series/community-meals/
URL:https://visitfloydva.com/event/community-meal-3/2025-02-14/
LOCATION:Springhouse\, 144 Silver Maple Lane\, Pilot\, VA\, 24138\, United States
CATEGORIES:Community,Dining,Education
ATTACH;FMTTYPE=image/png:https://visitfloydva.com/wp-content/uploads/2024/09/Community-Meal-Header1.png
ORGANIZER;CN="Springhouse Community School":MAILTO:info@springhousecommunityschool.org
GEO:36.9098462;-80.2849966
X-APPLE-STRUCTURED-LOCATION;VALUE=URI;X-ADDRESS=Springhouse 144 Silver Maple Lane Pilot VA 24138 United States;X-APPLE-RADIUS=500;X-TITLE=144 Silver Maple Lane:geo:-80.2849966,36.9098462
END:VEVENT
BEGIN:VEVENT
DTSTART;TZID=America/New_York:20250117T121500
DTEND;TZID=America/New_York:20250117T131500
DTSTAMP:20260420T032351
CREATED:20240927T215751Z
LAST-MODIFIED:20240927T215755Z
UID:10027898-1737116100-1737119700@visitfloydva.com
SUMMARY:Community Meal
DESCRIPTION:Springhouse’s monthly Community Meals are held to welcome people from around the region to enjoy connection with students and staff as well as learn about the vital work we are doing in education. This school year\, join us for a trip through the Americas – starting with the United States and heading south through Central America and on into South American countries. Students help prepare these meals and will share each time about what they’re learning from each country. Learn more and see all meal dates here: https://springhouse.org/series/community-meals/
URL:https://visitfloydva.com/event/community-meal-3/2025-01-17/
LOCATION:Springhouse\, 144 Silver Maple Lane\, Pilot\, VA\, 24138\, United States
CATEGORIES:Community,Dining,Education
ATTACH;FMTTYPE=image/png:https://visitfloydva.com/wp-content/uploads/2024/09/Community-Meal-Header1.png
ORGANIZER;CN="Springhouse Community School":MAILTO:info@springhousecommunityschool.org
GEO:36.9098462;-80.2849966
X-APPLE-STRUCTURED-LOCATION;VALUE=URI;X-ADDRESS=Springhouse 144 Silver Maple Lane Pilot VA 24138 United States;X-APPLE-RADIUS=500;X-TITLE=144 Silver Maple Lane:geo:-80.2849966,36.9098462
END:VEVENT
BEGIN:VEVENT
DTSTART;TZID=America/New_York:20241213T121500
DTEND;TZID=America/New_York:20241213T131500
DTSTAMP:20260420T032351
CREATED:20240927T215751Z
LAST-MODIFIED:20240927T215755Z
UID:10027897-1734092100-1734095700@visitfloydva.com
SUMMARY:Community Meal
DESCRIPTION:Springhouse’s monthly Community Meals are held to welcome people from around the region to enjoy connection with students and staff as well as learn about the vital work we are doing in education. This school year\, join us for a trip through the Americas – starting with the United States and heading south through Central America and on into South American countries. Students help prepare these meals and will share each time about what they’re learning from each country. Learn more and see all meal dates here: https://springhouse.org/series/community-meals/
URL:https://visitfloydva.com/event/community-meal-3/2024-12-13/
LOCATION:Springhouse\, 144 Silver Maple Lane\, Pilot\, VA\, 24138\, United States
CATEGORIES:Community,Dining,Education
ATTACH;FMTTYPE=image/png:https://visitfloydva.com/wp-content/uploads/2024/09/Community-Meal-Header1.png
ORGANIZER;CN="Springhouse Community School":MAILTO:info@springhousecommunityschool.org
GEO:36.9098462;-80.2849966
X-APPLE-STRUCTURED-LOCATION;VALUE=URI;X-ADDRESS=Springhouse 144 Silver Maple Lane Pilot VA 24138 United States;X-APPLE-RADIUS=500;X-TITLE=144 Silver Maple Lane:geo:-80.2849966,36.9098462
END:VEVENT
BEGIN:VEVENT
DTSTART;TZID=America/New_York:20241122T180000
DTEND;TZID=America/New_York:20241122T220000
DTSTAMP:20260420T032351
CREATED:20241114T194640Z
LAST-MODIFIED:20241114T194640Z
UID:10028034-1732298400-1732312800@visitfloydva.com
SUMMARY:Chef's Dinner III
DESCRIPTION:Get the VIP experience as we close the restaurant down for this special event: Chef’s Dinner III: An Exclusive Tasting Experience on Friday\, November 22 at 6pm! \nThis special culinary experience will highlight the training and talent of our culinary team led by our Executive Chef\, Chef Oshie. \nThis will be a seven course dinner and wine pairings. \nArrive at 6:00 p.m. Seating is limited to the first 20 people and will sell out. $300 per couple (plus tax / gratuity). \nReserve your table today by giving us a call at 540-593-2865!
URL:https://visitfloydva.com/event/chefs-dinner-iii/
LOCATION:Chateau Morrisette Winery\, 287 Winery Rd SW   \, Floyd \, VA\, 24091\, United States
CATEGORIES:Dining
ATTACH;FMTTYPE=image/jpeg:https://visitfloydva.com/wp-content/uploads/2024/11/Chefs_Dinner_III.jpg
GEO:36.794434;-80.393412
X-APPLE-STRUCTURED-LOCATION;VALUE=URI;X-ADDRESS=Chateau Morrisette Winery 287 Winery Rd SW    Floyd  VA 24091 United States;X-APPLE-RADIUS=500;X-TITLE=287 Winery Rd SW:geo:-80.393412,36.794434
END:VEVENT
BEGIN:VEVENT
DTSTART;TZID=America/New_York:20241108T121500
DTEND;TZID=America/New_York:20241108T131500
DTSTAMP:20260420T032351
CREATED:20240927T215751Z
LAST-MODIFIED:20240927T215755Z
UID:10027896-1731068100-1731071700@visitfloydva.com
SUMMARY:Community Meal
DESCRIPTION:Springhouse’s monthly Community Meals are held to welcome people from around the region to enjoy connection with students and staff as well as learn about the vital work we are doing in education. This school year\, join us for a trip through the Americas – starting with the United States and heading south through Central America and on into South American countries. Students help prepare these meals and will share each time about what they’re learning from each country. Learn more and see all meal dates here: https://springhouse.org/series/community-meals/
URL:https://visitfloydva.com/event/community-meal-3/2024-11-08/
LOCATION:Springhouse\, 144 Silver Maple Lane\, Pilot\, VA\, 24138\, United States
CATEGORIES:Community,Dining,Education
ATTACH;FMTTYPE=image/png:https://visitfloydva.com/wp-content/uploads/2024/09/Community-Meal-Header1.png
ORGANIZER;CN="Springhouse Community School":MAILTO:info@springhousecommunityschool.org
GEO:36.9098462;-80.2849966
X-APPLE-STRUCTURED-LOCATION;VALUE=URI;X-ADDRESS=Springhouse 144 Silver Maple Lane Pilot VA 24138 United States;X-APPLE-RADIUS=500;X-TITLE=144 Silver Maple Lane:geo:-80.2849966,36.9098462
END:VEVENT
BEGIN:VEVENT
DTSTART;TZID=America/New_York:20241011T121500
DTEND;TZID=America/New_York:20241011T131500
DTSTAMP:20260420T032351
CREATED:20240927T215751Z
LAST-MODIFIED:20240927T215755Z
UID:10027895-1728648900-1728652500@visitfloydva.com
SUMMARY:Community Meal
DESCRIPTION:Springhouse’s monthly Community Meals are held to welcome people from around the region to enjoy connection with students and staff as well as learn about the vital work we are doing in education. This school year\, join us for a trip through the Americas – starting with the United States and heading south through Central America and on into South American countries. Students help prepare these meals and will share each time about what they’re learning from each country. Learn more and see all meal dates here: https://springhouse.org/series/community-meals/
URL:https://visitfloydva.com/event/community-meal-3/2024-10-11/
LOCATION:Springhouse\, 144 Silver Maple Lane\, Pilot\, VA\, 24138\, United States
CATEGORIES:Community,Dining,Education
ATTACH;FMTTYPE=image/png:https://visitfloydva.com/wp-content/uploads/2024/09/Community-Meal-Header1.png
ORGANIZER;CN="Springhouse Community School":MAILTO:info@springhousecommunityschool.org
GEO:36.9098462;-80.2849966
X-APPLE-STRUCTURED-LOCATION;VALUE=URI;X-ADDRESS=Springhouse 144 Silver Maple Lane Pilot VA 24138 United States;X-APPLE-RADIUS=500;X-TITLE=144 Silver Maple Lane:geo:-80.2849966,36.9098462
END:VEVENT
BEGIN:VEVENT
DTSTART;TZID=America/New_York:20241006T110000
DTEND;TZID=America/New_York:20241006T140000
DTSTAMP:20260420T032351
CREATED:20240911T185957Z
LAST-MODIFIED:20240911T185957Z
UID:10027840-1728212400-1728223200@visitfloydva.com
SUMMARY:Blue Mountain School Donor Appreciation Brunch and Fundraiser
DESCRIPTION:The first ever Blue Mountain School Donor Appreciation Brunch and Fundraiser will be held on Sunday\, October 6th at 11am and hosted by Red Rooster Coffee in Floyd\, Virginia. \nThe Board of Directors wishes to invite the community to celebrate Blue Mountain School as a leader of alternative education in our region. Additionally\, the brunch will provide an excellent opportunity to learn about the history and recognize the decades long commitment the school has made to the young minds and hearts of our community. As it enters its forty-third academic school year\, Blue Mountain School invites the community to share a meal and conversation with the school’s administrators\, staff\, Board Members and school community members. \n“We want to celebrate the generous connections that have cultivated an ecosystem of support\,” says Director Tammie Sarver\, “from our ancient roots to our new budding community\, and the slow growth along the way.” \nJoin the school wide community and explore the organization through story and presentation; hear the exciting and ambitious plans for growth; and cheer with the Blue Mountain School community as they show their deepest gratitude to the donors whose past\, present and future generosity roots the school in its place. \nThe food and coffee will be prepared by the Red Rooster staff and feature local ingredients along with espresso based drinks at a cash bar. The event includes a curated Silent Auction from local masters\, locally inspired food\, student musicians\, the debut of the new Blue Mountain School Storefront\, exciting program and project reveals\, guest speakers and more! Rain or shine\, Blue Mountain hopes you will join them as they GROW OUTSIDE! \nFor more details on how to register\nhttps://www.bluemountainschool.net/store/p10/Donor-appreciation-brunch-2024.html#/
URL:https://visitfloydva.com/event/blue-mountain-school-donor-appreciation-brunch-and-fundraiser/
LOCATION:Red Rooster Coffee Roaster\, 823 East Main St.\, Floyd\, VA\, 24091\, United States
CATEGORIES:Community,Dining,Education,Fundraising
END:VEVENT
BEGIN:VEVENT
DTSTART;TZID=America/New_York:20240824T100000
DTEND;TZID=America/New_York:20240824T180000
DTSTAMP:20260420T032351
CREATED:20240410T184707Z
LAST-MODIFIED:20240812T194844Z
UID:10027715-1724493600-1724522400@visitfloydva.com
SUMMARY:Floyd Living Traditions Festival
DESCRIPTION:Known for its bluegrass and old-time music\, along with a lively arts scene\, Floyd\, Virginia\, will celebrate its rich artistic heritage on Saturday\, August 24\, 2024\, with the Floyd Living Traditions Festival. The festival\, hosted by the Floyd Center for the Arts in partnership with the Floyd Country Store’s Handmade Music School\, will feature music on two stages and fun for the whole family. More than 70 artists will be on hand to perform\, offer works for sale\, and demonstrate Floyd traditions such as quilting\, spinning\, instrument making\, weaving\, blacksmithing\, woodworking\, and basketmaking. Food trucks\, an outdoor beer garden\, kids activities\, and opportunities to learn and create firsthand await! Saturday’s all-day event takes place both inside and out at the dairy barn campus of the Floyd Center for the Arts located at 220 Parkway Lane South (VA-8) on the edge of downtown. Admission to the festival is free on Saturday. For more information about the two-day festival and tickets to Friday’s kickoff event August 23rd 6p at the June Bug Center can be found at www.floydartcenter.org \nThis event is sponsored by Skyline National Bank. This project is made possible by Mid Atlantic Arts’ Central Appalachia Living Traditions program.
URL:https://visitfloydva.com/event/floyd-living-traditions-festival-kickoff-event/
LOCATION:Floyd Center for the Arts\, 220 Parkway Lane S\, Floyd\, VA\, 24091\, United States
CATEGORIES:Arts & Handcraft,Community,Dance,Dining,Education,Entertainment,Family,Festivals,Music
ATTACH;FMTTYPE=image/png:https://visitfloydva.com/wp-content/uploads/2024/04/FLTF_SQ_2024.png
GEO:36.9039185;-80.3170382
X-APPLE-STRUCTURED-LOCATION;VALUE=URI;X-ADDRESS=Floyd Center for the Arts 220 Parkway Lane S Floyd VA 24091 United States;X-APPLE-RADIUS=500;X-TITLE=220 Parkway Lane S:geo:-80.3170382,36.9039185
END:VEVENT
BEGIN:VEVENT
DTSTART;TZID=America/New_York:20240730T170000
DTEND;TZID=America/New_York:20240730T190000
DTSTAMP:20260420T032351
CREATED:20240719T123641Z
LAST-MODIFIED:20240719T123641Z
UID:10029502-1722358800-1722366000@visitfloydva.com
SUMMARY:Community Meal: All are welcome!
DESCRIPTION:Join us at Plenty! on Elephant Curve Road in Floyd on Tuesday\, July 30th from 5 until 7pm for a community meal. This is a free event and open to everyone in Floyd County.
URL:https://visitfloydva.com/event/community-meal-all-are-welcome/
LOCATION:Plenty\, 192 Elephant Curve Road\, Floyd
CATEGORIES:Community,Dining,Family,Gardens
ATTACH;FMTTYPE=image/jpeg:https://visitfloydva.com/wp-content/uploads/2024/07/69086934_10156349934656105_4125536548479303680_n.jpg
END:VEVENT
END:VCALENDAR