BEGIN:VCALENDAR
VERSION:2.0
PRODID:-//Visit Floyd Virginia - ECPv6.15.20//NONSGML v1.0//EN
CALSCALE:GREGORIAN
METHOD:PUBLISH
X-WR-CALNAME:Visit Floyd Virginia
X-ORIGINAL-URL:https://visitfloydva.com
X-WR-CALDESC:Events for Visit Floyd Virginia
REFRESH-INTERVAL;VALUE=DURATION:PT1H
X-Robots-Tag:noindex
X-PUBLISHED-TTL:PT1H
BEGIN:VTIMEZONE
TZID:America/New_York
BEGIN:DAYLIGHT
TZOFFSETFROM:-0500
TZOFFSETTO:-0400
TZNAME:EDT
DTSTART:20240310T070000
END:DAYLIGHT
BEGIN:STANDARD
TZOFFSETFROM:-0400
TZOFFSETTO:-0500
TZNAME:EST
DTSTART:20241103T060000
END:STANDARD
BEGIN:DAYLIGHT
TZOFFSETFROM:-0500
TZOFFSETTO:-0400
TZNAME:EDT
DTSTART:20250309T070000
END:DAYLIGHT
BEGIN:STANDARD
TZOFFSETFROM:-0400
TZOFFSETTO:-0500
TZNAME:EST
DTSTART:20251102T060000
END:STANDARD
BEGIN:DAYLIGHT
TZOFFSETFROM:-0500
TZOFFSETTO:-0400
TZNAME:EDT
DTSTART:20260308T070000
END:DAYLIGHT
BEGIN:STANDARD
TZOFFSETFROM:-0400
TZOFFSETTO:-0500
TZNAME:EST
DTSTART:20261101T060000
END:STANDARD
END:VTIMEZONE
BEGIN:VEVENT
DTSTART;TZID=America/New_York:20250803T133000
DTEND;TZID=America/New_York:20250803T173000
DTSTAMP:20260420T195456
CREATED:20250109T184230Z
LAST-MODIFIED:20250814T142054Z
UID:10028136-1754227800-1754242200@visitfloydva.com
SUMMARY:Sunday Music Jam
DESCRIPTION:Every Sunday afternoon The Floyd Country Store comes alive with community music during our old time and bluegrass music jams. Bring your instrument and join in the music or grab some food and be our audience! The jam is open and free for everyone. \n12:00pm – 1:00pm: Old-Time Beginner Jam in the Floyd Country Store Community Room\n1:30pm – 3:30pm: Old-Time Music Jam\n4:00pm – 5:30pm: Bluegrass Jam \nJoin us for old time beginner jams from 12:00 to 1:00 in the Floyd Country Store Community Room. The old time jam session starts at 1:30 and is hosted by a different string band each week\, leading tunes at a moderate speed. Traditional instruments and dancers welcome! At 4:00 the bluegrass jam kicks off\, with hosts who lead the group in bluegrass songs and tunes. Song selections and solos pass around the circle. Sunday Music Jams are a great way to see traditional music the way it has been played and handed down for centuries\, amongst friends and family in a community setting.
URL:https://visitfloydva.com/event/sunday-music-jam-8/2025-08-03/
LOCATION:Floyd Country Store
CATEGORIES:Dance,Kid friendly,Music
GEO:36.9103975;-80.3202795
END:VEVENT
BEGIN:VEVENT
DTSTART;TZID=America/New_York:20250810T133000
DTEND;TZID=America/New_York:20250810T173000
DTSTAMP:20260420T195456
CREATED:20250109T184230Z
LAST-MODIFIED:20250814T142054Z
UID:10028137-1754832600-1754847000@visitfloydva.com
SUMMARY:Sunday Music Jam
DESCRIPTION:Every Sunday afternoon The Floyd Country Store comes alive with community music during our old time and bluegrass music jams. Bring your instrument and join in the music or grab some food and be our audience! The jam is open and free for everyone. \n12:00pm – 1:00pm: Old-Time Beginner Jam in the Floyd Country Store Community Room\n1:30pm – 3:30pm: Old-Time Music Jam\n4:00pm – 5:30pm: Bluegrass Jam \nJoin us for old time beginner jams from 12:00 to 1:00 in the Floyd Country Store Community Room. The old time jam session starts at 1:30 and is hosted by a different string band each week\, leading tunes at a moderate speed. Traditional instruments and dancers welcome! At 4:00 the bluegrass jam kicks off\, with hosts who lead the group in bluegrass songs and tunes. Song selections and solos pass around the circle. Sunday Music Jams are a great way to see traditional music the way it has been played and handed down for centuries\, amongst friends and family in a community setting.
URL:https://visitfloydva.com/event/sunday-music-jam-8/2025-08-10/
LOCATION:Floyd Country Store
CATEGORIES:Dance,Kid friendly,Music
GEO:36.9103975;-80.3202795
END:VEVENT
BEGIN:VEVENT
DTSTART;TZID=America/New_York:20250816T180000
DTEND;TZID=America/New_York:20250816T210000
DTSTAMP:20260420T195456
CREATED:20250224T145746Z
LAST-MODIFIED:20250813T200511Z
UID:10029923-1755367200-1755378000@visitfloydva.com
SUMMARY:Date Night on the Farm
DESCRIPTION:Come join us for a fun and relaxing evening of music\, food\, and flower picking at sunset! \nBring a blanket or chairs\, hang out\, enjoy a sunset\, and listen to some great music (50s\, 60s\, 70s classics). \nMusic by the Crystal River Band. Food can be purchased from the Vittle Wagon Food Truck \nEntry $5/person. Flower picking additional cost \nCheck in and pay at the store when you arrive.
URL:https://visitfloydva.com/event/date-night-on-the-farm-3/
LOCATION:Crooked Mountain\, 1378 Shooting Creek Rd SE\, Floyd\, VA\, 24091
CATEGORIES:Dance,Entertainment,Gardens,Music
ATTACH;FMTTYPE=image/png:https://visitfloydva.com/wp-content/uploads/2025/02/AUGUST-16TH-5-9pm-Date-night.png
ORGANIZER;CN="Crooked Mountain":MAILTO:crookedmtnva@gmail.com
END:VEVENT
BEGIN:VEVENT
DTSTART;TZID=America/New_York:20250817T133000
DTEND;TZID=America/New_York:20250817T173000
DTSTAMP:20260420T195456
CREATED:20250109T184230Z
LAST-MODIFIED:20250814T142054Z
UID:10028138-1755437400-1755451800@visitfloydva.com
SUMMARY:Sunday Music Jam
DESCRIPTION:Every Sunday afternoon The Floyd Country Store comes alive with community music during our old time and bluegrass music jams. Bring your instrument and join in the music or grab some food and be our audience! The jam is open and free for everyone. \n12:00pm – 1:00pm: Old-Time Beginner Jam in the Floyd Country Store Community Room\n1:30pm – 3:30pm: Old-Time Music Jam\n4:00pm – 5:30pm: Bluegrass Jam \nJoin us for old time beginner jams from 12:00 to 1:00 in the Floyd Country Store Community Room. The old time jam session starts at 1:30 and is hosted by a different string band each week\, leading tunes at a moderate speed. Traditional instruments and dancers welcome! At 4:00 the bluegrass jam kicks off\, with hosts who lead the group in bluegrass songs and tunes. Song selections and solos pass around the circle. Sunday Music Jams are a great way to see traditional music the way it has been played and handed down for centuries\, amongst friends and family in a community setting.
URL:https://visitfloydva.com/event/sunday-music-jam-8/2025-08-17/
LOCATION:Floyd Country Store
CATEGORIES:Dance,Kid friendly,Music
GEO:36.9103975;-80.3202795
END:VEVENT
BEGIN:VEVENT
DTSTART;TZID=America/New_York:20250824T133000
DTEND;TZID=America/New_York:20250824T173000
DTSTAMP:20260420T195456
CREATED:20250109T184230Z
LAST-MODIFIED:20250814T142054Z
UID:10028139-1756042200-1756056600@visitfloydva.com
SUMMARY:Sunday Music Jam
DESCRIPTION:Every Sunday afternoon The Floyd Country Store comes alive with community music during our old time and bluegrass music jams. Bring your instrument and join in the music or grab some food and be our audience! The jam is open and free for everyone. \n12:00pm – 1:00pm: Old-Time Beginner Jam in the Floyd Country Store Community Room\n1:30pm – 3:30pm: Old-Time Music Jam\n4:00pm – 5:30pm: Bluegrass Jam \nJoin us for old time beginner jams from 12:00 to 1:00 in the Floyd Country Store Community Room. The old time jam session starts at 1:30 and is hosted by a different string band each week\, leading tunes at a moderate speed. Traditional instruments and dancers welcome! At 4:00 the bluegrass jam kicks off\, with hosts who lead the group in bluegrass songs and tunes. Song selections and solos pass around the circle. Sunday Music Jams are a great way to see traditional music the way it has been played and handed down for centuries\, amongst friends and family in a community setting.
URL:https://visitfloydva.com/event/sunday-music-jam-8/2025-08-24/
LOCATION:Floyd Country Store
CATEGORIES:Dance,Kid friendly,Music
GEO:36.9103975;-80.3202795
END:VEVENT
BEGIN:VEVENT
DTSTART;TZID=America/New_York:20250831T133000
DTEND;TZID=America/New_York:20250831T173000
DTSTAMP:20260420T195456
CREATED:20250109T184230Z
LAST-MODIFIED:20250814T142054Z
UID:10028140-1756647000-1756661400@visitfloydva.com
SUMMARY:Sunday Music Jam
DESCRIPTION:Every Sunday afternoon The Floyd Country Store comes alive with community music during our old time and bluegrass music jams. Bring your instrument and join in the music or grab some food and be our audience! The jam is open and free for everyone. \n12:00pm – 1:00pm: Old-Time Beginner Jam in the Floyd Country Store Community Room\n1:30pm – 3:30pm: Old-Time Music Jam\n4:00pm – 5:30pm: Bluegrass Jam \nJoin us for old time beginner jams from 12:00 to 1:00 in the Floyd Country Store Community Room. The old time jam session starts at 1:30 and is hosted by a different string band each week\, leading tunes at a moderate speed. Traditional instruments and dancers welcome! At 4:00 the bluegrass jam kicks off\, with hosts who lead the group in bluegrass songs and tunes. Song selections and solos pass around the circle. Sunday Music Jams are a great way to see traditional music the way it has been played and handed down for centuries\, amongst friends and family in a community setting.
URL:https://visitfloydva.com/event/sunday-music-jam-8/2025-08-31/
LOCATION:Floyd Country Store
CATEGORIES:Dance,Kid friendly,Music
GEO:36.9103975;-80.3202795
END:VEVENT
END:VCALENDAR