BEGIN:VCALENDAR
VERSION:2.0
PRODID:-//Visit Floyd Virginia - ECPv6.15.20//NONSGML v1.0//EN
CALSCALE:GREGORIAN
METHOD:PUBLISH
X-ORIGINAL-URL:https://visitfloydva.com
X-WR-CALDESC:Events for Visit Floyd Virginia
REFRESH-INTERVAL;VALUE=DURATION:PT1H
X-Robots-Tag:noindex
X-PUBLISHED-TTL:PT1H
BEGIN:VTIMEZONE
TZID:America/New_York
BEGIN:DAYLIGHT
TZOFFSETFROM:-0500
TZOFFSETTO:-0400
TZNAME:EDT
DTSTART:20240310T070000
END:DAYLIGHT
BEGIN:STANDARD
TZOFFSETFROM:-0400
TZOFFSETTO:-0500
TZNAME:EST
DTSTART:20241103T060000
END:STANDARD
BEGIN:DAYLIGHT
TZOFFSETFROM:-0500
TZOFFSETTO:-0400
TZNAME:EDT
DTSTART:20250309T070000
END:DAYLIGHT
BEGIN:STANDARD
TZOFFSETFROM:-0400
TZOFFSETTO:-0500
TZNAME:EST
DTSTART:20251102T060000
END:STANDARD
BEGIN:DAYLIGHT
TZOFFSETFROM:-0500
TZOFFSETTO:-0400
TZNAME:EDT
DTSTART:20260308T070000
END:DAYLIGHT
BEGIN:STANDARD
TZOFFSETFROM:-0400
TZOFFSETTO:-0500
TZNAME:EST
DTSTART:20261101T060000
END:STANDARD
END:VTIMEZONE
BEGIN:VEVENT
DTSTART;TZID=America/New_York:20250501T090000
DTEND;TZID=America/New_York:20250501T100000
DTSTAMP:20260421T011524
CREATED:20250205T145648Z
LAST-MODIFIED:20250224T150142Z
UID:10029896-1746090000-1746093600@visitfloydva.com
SUMMARY:Revive! Fitness Class
DESCRIPTION:REVIVE the Body and Spirit — All your fitness needs in just one hour! (not kidding!)\nDance Cardio\, Strength Training and Yoga \nIn-person AND on Zoom!\nIntermediate Level \nKatie Wells MFA leads conditioning classes through Radford University.\nShe has taught movement for over 25 years and is trained in a variety of dance styles and somatic techniques.\nEvery Monday & Wednesday\,\n9:00am-10:00am
URL:https://visitfloydva.com/event/revive-fitness-class-2/2025-05-01/
LOCATION:Floyd County
CATEGORIES:Community,Dance,Wellness
ATTACH;FMTTYPE=image/png:https://visitfloydva.com/wp-content/uploads/2025/02/Screenshot-2025-02-05-061016.png
ORGANIZER;CN="Katie Wells":MAILTO:misskatiewells@gmail.com
END:VEVENT
BEGIN:VEVENT
DTSTART;TZID=America/New_York:20250504T133000
DTEND;TZID=America/New_York:20250504T173000
DTSTAMP:20260421T011524
CREATED:20250109T184230Z
LAST-MODIFIED:20250814T142054Z
UID:10028123-1746365400-1746379800@visitfloydva.com
SUMMARY:Sunday Music Jam
DESCRIPTION:Every Sunday afternoon The Floyd Country Store comes alive with community music during our old time and bluegrass music jams. Bring your instrument and join in the music or grab some food and be our audience! The jam is open and free for everyone. \n12:00pm – 1:00pm: Old-Time Beginner Jam in the Floyd Country Store Community Room\n1:30pm – 3:30pm: Old-Time Music Jam\n4:00pm – 5:30pm: Bluegrass Jam \nJoin us for old time beginner jams from 12:00 to 1:00 in the Floyd Country Store Community Room. The old time jam session starts at 1:30 and is hosted by a different string band each week\, leading tunes at a moderate speed. Traditional instruments and dancers welcome! At 4:00 the bluegrass jam kicks off\, with hosts who lead the group in bluegrass songs and tunes. Song selections and solos pass around the circle. Sunday Music Jams are a great way to see traditional music the way it has been played and handed down for centuries\, amongst friends and family in a community setting.
URL:https://visitfloydva.com/event/sunday-music-jam-8/2025-05-04/
LOCATION:Floyd Country Store
CATEGORIES:Dance,Kid friendly,Music
GEO:36.9103975;-80.3202795
END:VEVENT
BEGIN:VEVENT
DTSTART;TZID=America/New_York:20250506T090000
DTEND;TZID=America/New_York:20250506T100000
DTSTAMP:20260421T011524
CREATED:20250205T145648Z
LAST-MODIFIED:20250224T150142Z
UID:10029897-1746522000-1746525600@visitfloydva.com
SUMMARY:Revive! Fitness Class
DESCRIPTION:REVIVE the Body and Spirit — All your fitness needs in just one hour! (not kidding!)\nDance Cardio\, Strength Training and Yoga \nIn-person AND on Zoom!\nIntermediate Level \nKatie Wells MFA leads conditioning classes through Radford University.\nShe has taught movement for over 25 years and is trained in a variety of dance styles and somatic techniques.\nEvery Monday & Wednesday\,\n9:00am-10:00am
URL:https://visitfloydva.com/event/revive-fitness-class-2/2025-05-06/
LOCATION:Floyd County
CATEGORIES:Community,Dance,Wellness
ATTACH;FMTTYPE=image/png:https://visitfloydva.com/wp-content/uploads/2025/02/Screenshot-2025-02-05-061016.png
ORGANIZER;CN="Katie Wells":MAILTO:misskatiewells@gmail.com
END:VEVENT
BEGIN:VEVENT
DTSTART;TZID=America/New_York:20250508T090000
DTEND;TZID=America/New_York:20250508T100000
DTSTAMP:20260421T011524
CREATED:20250205T145648Z
LAST-MODIFIED:20250224T150142Z
UID:10029898-1746694800-1746698400@visitfloydva.com
SUMMARY:Revive! Fitness Class
DESCRIPTION:REVIVE the Body and Spirit — All your fitness needs in just one hour! (not kidding!)\nDance Cardio\, Strength Training and Yoga \nIn-person AND on Zoom!\nIntermediate Level \nKatie Wells MFA leads conditioning classes through Radford University.\nShe has taught movement for over 25 years and is trained in a variety of dance styles and somatic techniques.\nEvery Monday & Wednesday\,\n9:00am-10:00am
URL:https://visitfloydva.com/event/revive-fitness-class-2/2025-05-08/
LOCATION:Floyd County
CATEGORIES:Community,Dance,Wellness
ATTACH;FMTTYPE=image/png:https://visitfloydva.com/wp-content/uploads/2025/02/Screenshot-2025-02-05-061016.png
ORGANIZER;CN="Katie Wells":MAILTO:misskatiewells@gmail.com
END:VEVENT
BEGIN:VEVENT
DTSTART;TZID=America/New_York:20250508T190000
DTEND;TZID=America/New_York:20250508T210000
DTSTAMP:20260421T011524
CREATED:20250502T171151Z
LAST-MODIFIED:20250502T171151Z
UID:10030092-1746730800-1746738000@visitfloydva.com
SUMMARY:Ecstatic Dance
DESCRIPTION:A freeform\, un-guided opportunity to explore your body and spirit through dance and movement. Music is a curated eclectic variety of styles presented in Wave format to allow for a journey through the feelings\, while hopefully enjoying a heightened ecstatic phase of pure dancing joy!
URL:https://visitfloydva.com/event/ecstatic-dance-10/2025-05-08/
LOCATION:Shanti Temple\, 625 Laurel Creek Rd NE\, Pilot\, VA\, 24138\, United States
CATEGORIES:Dance
END:VEVENT
BEGIN:VEVENT
DTSTART;TZID=America/New_York:20250511T133000
DTEND;TZID=America/New_York:20250511T173000
DTSTAMP:20260421T011524
CREATED:20250109T184230Z
LAST-MODIFIED:20250814T142054Z
UID:10028124-1746970200-1746984600@visitfloydva.com
SUMMARY:Sunday Music Jam
DESCRIPTION:Every Sunday afternoon The Floyd Country Store comes alive with community music during our old time and bluegrass music jams. Bring your instrument and join in the music or grab some food and be our audience! The jam is open and free for everyone. \n12:00pm – 1:00pm: Old-Time Beginner Jam in the Floyd Country Store Community Room\n1:30pm – 3:30pm: Old-Time Music Jam\n4:00pm – 5:30pm: Bluegrass Jam \nJoin us for old time beginner jams from 12:00 to 1:00 in the Floyd Country Store Community Room. The old time jam session starts at 1:30 and is hosted by a different string band each week\, leading tunes at a moderate speed. Traditional instruments and dancers welcome! At 4:00 the bluegrass jam kicks off\, with hosts who lead the group in bluegrass songs and tunes. Song selections and solos pass around the circle. Sunday Music Jams are a great way to see traditional music the way it has been played and handed down for centuries\, amongst friends and family in a community setting.
URL:https://visitfloydva.com/event/sunday-music-jam-8/2025-05-11/
LOCATION:Floyd Country Store
CATEGORIES:Dance,Kid friendly,Music
GEO:36.9103975;-80.3202795
END:VEVENT
BEGIN:VEVENT
DTSTART;TZID=America/New_York:20250513T090000
DTEND;TZID=America/New_York:20250513T100000
DTSTAMP:20260421T011524
CREATED:20250205T145648Z
LAST-MODIFIED:20250224T150142Z
UID:10029899-1747126800-1747130400@visitfloydva.com
SUMMARY:Revive! Fitness Class
DESCRIPTION:REVIVE the Body and Spirit — All your fitness needs in just one hour! (not kidding!)\nDance Cardio\, Strength Training and Yoga \nIn-person AND on Zoom!\nIntermediate Level \nKatie Wells MFA leads conditioning classes through Radford University.\nShe has taught movement for over 25 years and is trained in a variety of dance styles and somatic techniques.\nEvery Monday & Wednesday\,\n9:00am-10:00am
URL:https://visitfloydva.com/event/revive-fitness-class-2/2025-05-13/
LOCATION:Floyd County
CATEGORIES:Community,Dance,Wellness
ATTACH;FMTTYPE=image/png:https://visitfloydva.com/wp-content/uploads/2025/02/Screenshot-2025-02-05-061016.png
ORGANIZER;CN="Katie Wells":MAILTO:misskatiewells@gmail.com
END:VEVENT
BEGIN:VEVENT
DTSTART;TZID=America/New_York:20250515T090000
DTEND;TZID=America/New_York:20250515T100000
DTSTAMP:20260421T011524
CREATED:20250205T145648Z
LAST-MODIFIED:20250224T150142Z
UID:10029900-1747299600-1747303200@visitfloydva.com
SUMMARY:Revive! Fitness Class
DESCRIPTION:REVIVE the Body and Spirit — All your fitness needs in just one hour! (not kidding!)\nDance Cardio\, Strength Training and Yoga \nIn-person AND on Zoom!\nIntermediate Level \nKatie Wells MFA leads conditioning classes through Radford University.\nShe has taught movement for over 25 years and is trained in a variety of dance styles and somatic techniques.\nEvery Monday & Wednesday\,\n9:00am-10:00am
URL:https://visitfloydva.com/event/revive-fitness-class-2/2025-05-15/
LOCATION:Floyd County
CATEGORIES:Community,Dance,Wellness
ATTACH;FMTTYPE=image/png:https://visitfloydva.com/wp-content/uploads/2025/02/Screenshot-2025-02-05-061016.png
ORGANIZER;CN="Katie Wells":MAILTO:misskatiewells@gmail.com
END:VEVENT
BEGIN:VEVENT
DTSTART;TZID=America/New_York:20250518T133000
DTEND;TZID=America/New_York:20250518T173000
DTSTAMP:20260421T011524
CREATED:20250109T184230Z
LAST-MODIFIED:20250814T142054Z
UID:10028125-1747575000-1747589400@visitfloydva.com
SUMMARY:Sunday Music Jam
DESCRIPTION:Every Sunday afternoon The Floyd Country Store comes alive with community music during our old time and bluegrass music jams. Bring your instrument and join in the music or grab some food and be our audience! The jam is open and free for everyone. \n12:00pm – 1:00pm: Old-Time Beginner Jam in the Floyd Country Store Community Room\n1:30pm – 3:30pm: Old-Time Music Jam\n4:00pm – 5:30pm: Bluegrass Jam \nJoin us for old time beginner jams from 12:00 to 1:00 in the Floyd Country Store Community Room. The old time jam session starts at 1:30 and is hosted by a different string band each week\, leading tunes at a moderate speed. Traditional instruments and dancers welcome! At 4:00 the bluegrass jam kicks off\, with hosts who lead the group in bluegrass songs and tunes. Song selections and solos pass around the circle. Sunday Music Jams are a great way to see traditional music the way it has been played and handed down for centuries\, amongst friends and family in a community setting.
URL:https://visitfloydva.com/event/sunday-music-jam-8/2025-05-18/
LOCATION:Floyd Country Store
CATEGORIES:Dance,Kid friendly,Music
GEO:36.9103975;-80.3202795
END:VEVENT
BEGIN:VEVENT
DTSTART;TZID=America/New_York:20250520T090000
DTEND;TZID=America/New_York:20250520T100000
DTSTAMP:20260421T011524
CREATED:20250205T145648Z
LAST-MODIFIED:20250224T150142Z
UID:10029901-1747731600-1747735200@visitfloydva.com
SUMMARY:Revive! Fitness Class
DESCRIPTION:REVIVE the Body and Spirit — All your fitness needs in just one hour! (not kidding!)\nDance Cardio\, Strength Training and Yoga \nIn-person AND on Zoom!\nIntermediate Level \nKatie Wells MFA leads conditioning classes through Radford University.\nShe has taught movement for over 25 years and is trained in a variety of dance styles and somatic techniques.\nEvery Monday & Wednesday\,\n9:00am-10:00am
URL:https://visitfloydva.com/event/revive-fitness-class-2/2025-05-20/
LOCATION:Floyd County
CATEGORIES:Community,Dance,Wellness
ATTACH;FMTTYPE=image/png:https://visitfloydva.com/wp-content/uploads/2025/02/Screenshot-2025-02-05-061016.png
ORGANIZER;CN="Katie Wells":MAILTO:misskatiewells@gmail.com
END:VEVENT
BEGIN:VEVENT
DTSTART;TZID=America/New_York:20250522T090000
DTEND;TZID=America/New_York:20250522T100000
DTSTAMP:20260421T011524
CREATED:20250205T145648Z
LAST-MODIFIED:20250224T150142Z
UID:10029902-1747904400-1747908000@visitfloydva.com
SUMMARY:Revive! Fitness Class
DESCRIPTION:REVIVE the Body and Spirit — All your fitness needs in just one hour! (not kidding!)\nDance Cardio\, Strength Training and Yoga \nIn-person AND on Zoom!\nIntermediate Level \nKatie Wells MFA leads conditioning classes through Radford University.\nShe has taught movement for over 25 years and is trained in a variety of dance styles and somatic techniques.\nEvery Monday & Wednesday\,\n9:00am-10:00am
URL:https://visitfloydva.com/event/revive-fitness-class-2/2025-05-22/
LOCATION:Floyd County
CATEGORIES:Community,Dance,Wellness
ATTACH;FMTTYPE=image/png:https://visitfloydva.com/wp-content/uploads/2025/02/Screenshot-2025-02-05-061016.png
ORGANIZER;CN="Katie Wells":MAILTO:misskatiewells@gmail.com
END:VEVENT
BEGIN:VEVENT
DTSTART;TZID=America/New_York:20250522T190000
DTEND;TZID=America/New_York:20250522T210000
DTSTAMP:20260421T011524
CREATED:20250502T171151Z
LAST-MODIFIED:20250502T171151Z
UID:10030093-1747940400-1747947600@visitfloydva.com
SUMMARY:Ecstatic Dance
DESCRIPTION:A freeform\, un-guided opportunity to explore your body and spirit through dance and movement. Music is a curated eclectic variety of styles presented in Wave format to allow for a journey through the feelings\, while hopefully enjoying a heightened ecstatic phase of pure dancing joy!
URL:https://visitfloydva.com/event/ecstatic-dance-10/2025-05-22/
LOCATION:Shanti Temple\, 625 Laurel Creek Rd NE\, Pilot\, VA\, 24138\, United States
CATEGORIES:Dance
END:VEVENT
BEGIN:VEVENT
DTSTART;TZID=America/New_York:20250525T133000
DTEND;TZID=America/New_York:20250525T173000
DTSTAMP:20260421T011524
CREATED:20250109T184230Z
LAST-MODIFIED:20250814T142054Z
UID:10028126-1748179800-1748194200@visitfloydva.com
SUMMARY:Sunday Music Jam
DESCRIPTION:Every Sunday afternoon The Floyd Country Store comes alive with community music during our old time and bluegrass music jams. Bring your instrument and join in the music or grab some food and be our audience! The jam is open and free for everyone. \n12:00pm – 1:00pm: Old-Time Beginner Jam in the Floyd Country Store Community Room\n1:30pm – 3:30pm: Old-Time Music Jam\n4:00pm – 5:30pm: Bluegrass Jam \nJoin us for old time beginner jams from 12:00 to 1:00 in the Floyd Country Store Community Room. The old time jam session starts at 1:30 and is hosted by a different string band each week\, leading tunes at a moderate speed. Traditional instruments and dancers welcome! At 4:00 the bluegrass jam kicks off\, with hosts who lead the group in bluegrass songs and tunes. Song selections and solos pass around the circle. Sunday Music Jams are a great way to see traditional music the way it has been played and handed down for centuries\, amongst friends and family in a community setting.
URL:https://visitfloydva.com/event/sunday-music-jam-8/2025-05-25/
LOCATION:Floyd Country Store
CATEGORIES:Dance,Kid friendly,Music
GEO:36.9103975;-80.3202795
END:VEVENT
BEGIN:VEVENT
DTSTART;TZID=America/New_York:20250527T090000
DTEND;TZID=America/New_York:20250527T100000
DTSTAMP:20260421T011524
CREATED:20250205T145648Z
LAST-MODIFIED:20250224T150142Z
UID:10029903-1748336400-1748340000@visitfloydva.com
SUMMARY:Revive! Fitness Class
DESCRIPTION:REVIVE the Body and Spirit — All your fitness needs in just one hour! (not kidding!)\nDance Cardio\, Strength Training and Yoga \nIn-person AND on Zoom!\nIntermediate Level \nKatie Wells MFA leads conditioning classes through Radford University.\nShe has taught movement for over 25 years and is trained in a variety of dance styles and somatic techniques.\nEvery Monday & Wednesday\,\n9:00am-10:00am
URL:https://visitfloydva.com/event/revive-fitness-class-2/2025-05-27/
LOCATION:Floyd County
CATEGORIES:Community,Dance,Wellness
ATTACH;FMTTYPE=image/png:https://visitfloydva.com/wp-content/uploads/2025/02/Screenshot-2025-02-05-061016.png
ORGANIZER;CN="Katie Wells":MAILTO:misskatiewells@gmail.com
END:VEVENT
BEGIN:VEVENT
DTSTART;TZID=America/New_York:20250529T090000
DTEND;TZID=America/New_York:20250529T100000
DTSTAMP:20260421T011524
CREATED:20250205T145648Z
LAST-MODIFIED:20250224T150142Z
UID:10029904-1748509200-1748512800@visitfloydva.com
SUMMARY:Revive! Fitness Class
DESCRIPTION:REVIVE the Body and Spirit — All your fitness needs in just one hour! (not kidding!)\nDance Cardio\, Strength Training and Yoga \nIn-person AND on Zoom!\nIntermediate Level \nKatie Wells MFA leads conditioning classes through Radford University.\nShe has taught movement for over 25 years and is trained in a variety of dance styles and somatic techniques.\nEvery Monday & Wednesday\,\n9:00am-10:00am
URL:https://visitfloydva.com/event/revive-fitness-class-2/2025-05-29/
LOCATION:Floyd County
CATEGORIES:Community,Dance,Wellness
ATTACH;FMTTYPE=image/png:https://visitfloydva.com/wp-content/uploads/2025/02/Screenshot-2025-02-05-061016.png
ORGANIZER;CN="Katie Wells":MAILTO:misskatiewells@gmail.com
END:VEVENT
END:VCALENDAR