BEGIN:VCALENDAR
VERSION:2.0
PRODID:-//Visit Floyd Virginia - ECPv6.15.20//NONSGML v1.0//EN
CALSCALE:GREGORIAN
METHOD:PUBLISH
X-ORIGINAL-URL:https://visitfloydva.com
X-WR-CALDESC:Events for Visit Floyd Virginia
REFRESH-INTERVAL;VALUE=DURATION:PT1H
X-Robots-Tag:noindex
X-PUBLISHED-TTL:PT1H
BEGIN:VTIMEZONE
TZID:America/New_York
BEGIN:DAYLIGHT
TZOFFSETFROM:-0500
TZOFFSETTO:-0400
TZNAME:EDT
DTSTART:20240310T070000
END:DAYLIGHT
BEGIN:STANDARD
TZOFFSETFROM:-0400
TZOFFSETTO:-0500
TZNAME:EST
DTSTART:20241103T060000
END:STANDARD
BEGIN:DAYLIGHT
TZOFFSETFROM:-0500
TZOFFSETTO:-0400
TZNAME:EDT
DTSTART:20250309T070000
END:DAYLIGHT
BEGIN:STANDARD
TZOFFSETFROM:-0400
TZOFFSETTO:-0500
TZNAME:EST
DTSTART:20251102T060000
END:STANDARD
BEGIN:DAYLIGHT
TZOFFSETFROM:-0500
TZOFFSETTO:-0400
TZNAME:EDT
DTSTART:20260308T070000
END:DAYLIGHT
BEGIN:STANDARD
TZOFFSETFROM:-0400
TZOFFSETTO:-0500
TZNAME:EST
DTSTART:20261101T060000
END:STANDARD
END:VTIMEZONE
BEGIN:VEVENT
DTSTART;TZID=America/New_York:20251107T140000
DTEND;TZID=America/New_York:20251107T170000
DTSTAMP:20260423T133723
CREATED:20250428T141210Z
LAST-MODIFIED:20251107T160557Z
UID:10028372-1762524000-1762534800@visitfloydva.com
SUMMARY:Memories Sit Here
DESCRIPTION:“Memories Sit Here —Stools\, Chairs\, Benches & Their Makers” features more than thirty Floyd County woodworkers. Old Church Gallery permanent collections of folk art\, coverlets\, baskets\, tools\, quilts\, and soapstone pieces are also on exhibit. The Gallery is open every Saturday from 10:00 to 1:00. There is ample parking and the Gallery is accessible from the Floyd Heritage Walking Trail.
URL:https://visitfloydva.com/event/memories-sit-here/2025-11-07/
LOCATION:Old Church Gallery\, 110 Wilson St.\, Floyd\, VA\, 24091\, Select a Country:
CATEGORIES:Arts & Handcraft,Community,Family,Historic
ATTACH;FMTTYPE=image/jpeg:https://visitfloydva.com/wp-content/uploads/2025/04/IMG_4914.jpg
ORGANIZER;CN="Old Church Gallery%2C Ltd.":MAILTO:oldchurchgallery@swva.net
GEO:36.911011;-80.317746
X-APPLE-STRUCTURED-LOCATION;VALUE=URI;X-ADDRESS=Old Church Gallery 110 Wilson St. Floyd VA 24091 Select a Country:;X-APPLE-RADIUS=500;X-TITLE=110 Wilson St.:geo:-80.317746,36.911011
END:VEVENT
BEGIN:VEVENT
DTSTART;TZID=America/New_York:20251108T100000
DTEND;TZID=America/New_York:20251108T130000
DTSTAMP:20260423T133723
CREATED:20250428T141515Z
LAST-MODIFIED:20251107T160935Z
UID:10028409-1762596000-1762606800@visitfloydva.com
SUMMARY:Memories Sit Here
DESCRIPTION:“Memories Sit Here — Stools\, Chairs\, Benches & Their Makers” is a cultural arts exhibit featuring more than thirty Floyd County woodworkers. In addition\, Old Church Gallery permanent collections on display include quilts\, tools\, baskets\, folk art\, coverlets\, music\, archaeological pieces\, and oral histories. The Gallery house has ample parking and is accessible from the Floyd Heritage Walking Trail.
URL:https://visitfloydva.com/event/memories-sit-here-2/2025-11-08/
LOCATION:Old Church Gallery\, 110 Wilson St.\, Floyd\, VA\, 24091\, Select a Country:
CATEGORIES:Arts & Handcraft,Community,Family,Historic
ATTACH;FMTTYPE=image/jpeg:https://visitfloydva.com/wp-content/uploads/2025/04/IMG_4884.jpg
ORGANIZER;CN="Old Church Gallery%2C Ltd.":MAILTO:oldchurchgallery@swva.net
GEO:36.911011;-80.317746
X-APPLE-STRUCTURED-LOCATION;VALUE=URI;X-ADDRESS=Old Church Gallery 110 Wilson St. Floyd VA 24091 Select a Country:;X-APPLE-RADIUS=500;X-TITLE=110 Wilson St.:geo:-80.317746,36.911011
END:VEVENT
BEGIN:VEVENT
DTSTART;TZID=America/New_York:20251108T173000
DTEND;TZID=America/New_York:20251108T190000
DTSTAMP:20260423T133723
CREATED:20241216T144826Z
LAST-MODIFIED:20241216T144826Z
UID:10028082-1762623000-1762628400@visitfloydva.com
SUMMARY:Blue Ridge Story Space
DESCRIPTION:The Blue Ridge Story Space is comprised of folks who love telling and listening to stories. Tell a 5-7 minute story inspired by the monthly theme or just come to listen.\nJoin us on the 2nd Saturday of each month 5:30-7:00 PM at The June Bug Center in Floyd. [251 Parkway Ln S Floyd\, VA]\nThemes for each month are posted on our Facebook page: https://www.facebook.com/blueridgestoryspace\nEvent is free. Snacks and drinks available for purchase support the June Bug Center.\n[Due to ABC liquor license policies NO outside food or drink permitted at this event.] \nAlways interesting & fun. Bring friends!!\n[Adult topics may be shared\, so parental discretion is advised.]
URL:https://visitfloydva.com/event/blue-ridge-story-space-23/2025-11-08/
LOCATION:June Bug Center\, 251 Parkway Ln. S.\, Floyd\, VA\, 24091\, United States
CATEGORIES:Community,Entertainment
GEO:36.903013;-80.316736
X-APPLE-STRUCTURED-LOCATION;VALUE=URI;X-ADDRESS=June Bug Center 251 Parkway Ln. S. Floyd VA 24091 United States;X-APPLE-RADIUS=500;X-TITLE=251 Parkway Ln. S.:geo:-80.316736,36.903013
END:VEVENT
BEGIN:VEVENT
DTSTART;TZID=America/New_York:20251108T190000
DTEND;TZID=America/New_York:20251108T223000
DTSTAMP:20260423T133723
CREATED:20251103T145358Z
LAST-MODIFIED:20251103T145358Z
UID:10030777-1762628400-1762641000@visitfloydva.com
SUMMARY:Floyd Contra Dance
DESCRIPTION:Jim Harrington and Rya Martin will be playing and Charlotte Critten will be calling. \nBeginner lesson: 7:00 PM\nDance: 7:30 – 10:30 PM\nAdmission: $10\, Students $5\, Children under 12 – FREE\nPlace – Floyd Center for the Arts\, 220 Parkway Lane South\, Floyd\, VA \nAll are welcome. All dances are walked through before being danced. Floyd Contra Dance occurs on the second Saturday from September through May.
URL:https://visitfloydva.com/event/floyd-contra-dance-2/
LOCATION:Floyd Center for the Arts\, 220 Parkway Lane S\, Floyd\, VA\, 24091\, United States
CATEGORIES:Community,Dance,Entertainment,Family,Music
GEO:36.9039185;-80.3170382
X-APPLE-STRUCTURED-LOCATION;VALUE=URI;X-ADDRESS=Floyd Center for the Arts 220 Parkway Lane S Floyd VA 24091 United States;X-APPLE-RADIUS=500;X-TITLE=220 Parkway Lane S:geo:-80.3170382,36.9039185
END:VEVENT
BEGIN:VEVENT
DTSTART;TZID=America/New_York:20251113T140000
DTEND;TZID=America/New_York:20251116T153000
DTSTAMP:20260423T133723
CREATED:20250205T144148Z
LAST-MODIFIED:20250205T144148Z
UID:10029879-1763042400-1763307000@visitfloydva.com
SUMMARY:2025 FALL Goddess Retreat
DESCRIPTION:In this retreat\, we travel through seven group sessions pairing an archetypal goddess to each chakra. We are more than the box we put ourselves in. We are mother\, lover\, warrioress\, wise woman\, and priestess. Embody love\, unknot the psyche\, and step into your divinity. \nConscious Movement Embodiment
URL:https://visitfloydva.com/event/2025-fall-goddess-retreat/
LOCATION:Floyd County
CATEGORIES:Community,Environment,Spirits,Wellness
ATTACH;FMTTYPE=image/png:https://visitfloydva.com/wp-content/uploads/2025/02/Screenshot-2025-02-05-055733.png
ORGANIZER;CN="Katie Wells":MAILTO:misskatiewells@gmail.com
END:VEVENT
BEGIN:VEVENT
DTSTART;TZID=America/New_York:20251114T140000
DTEND;TZID=America/New_York:20251114T170000
DTSTAMP:20260423T133723
CREATED:20250428T141210Z
LAST-MODIFIED:20251107T160557Z
UID:10028373-1763128800-1763139600@visitfloydva.com
SUMMARY:Memories Sit Here
DESCRIPTION:“Memories Sit Here —Stools\, Chairs\, Benches & Their Makers” features more than thirty Floyd County woodworkers. Old Church Gallery permanent collections of folk art\, coverlets\, baskets\, tools\, quilts\, and soapstone pieces are also on exhibit. The Gallery is open every Saturday from 10:00 to 1:00. There is ample parking and the Gallery is accessible from the Floyd Heritage Walking Trail.
URL:https://visitfloydva.com/event/memories-sit-here/2025-11-14/
LOCATION:Old Church Gallery\, 110 Wilson St.\, Floyd\, VA\, 24091\, Select a Country:
CATEGORIES:Arts & Handcraft,Community,Family,Historic
ATTACH;FMTTYPE=image/jpeg:https://visitfloydva.com/wp-content/uploads/2025/04/IMG_4914.jpg
ORGANIZER;CN="Old Church Gallery%2C Ltd.":MAILTO:oldchurchgallery@swva.net
GEO:36.911011;-80.317746
X-APPLE-STRUCTURED-LOCATION;VALUE=URI;X-ADDRESS=Old Church Gallery 110 Wilson St. Floyd VA 24091 Select a Country:;X-APPLE-RADIUS=500;X-TITLE=110 Wilson St.:geo:-80.317746,36.911011
END:VEVENT
BEGIN:VEVENT
DTSTART;TZID=America/New_York:20251115T100000
DTEND;TZID=America/New_York:20251115T130000
DTSTAMP:20260423T133723
CREATED:20250428T141515Z
LAST-MODIFIED:20251107T160935Z
UID:10028410-1763200800-1763211600@visitfloydva.com
SUMMARY:Memories Sit Here
DESCRIPTION:“Memories Sit Here — Stools\, Chairs\, Benches & Their Makers” is a cultural arts exhibit featuring more than thirty Floyd County woodworkers. In addition\, Old Church Gallery permanent collections on display include quilts\, tools\, baskets\, folk art\, coverlets\, music\, archaeological pieces\, and oral histories. The Gallery house has ample parking and is accessible from the Floyd Heritage Walking Trail.
URL:https://visitfloydva.com/event/memories-sit-here-2/2025-11-15/
LOCATION:Old Church Gallery\, 110 Wilson St.\, Floyd\, VA\, 24091\, Select a Country:
CATEGORIES:Arts & Handcraft,Community,Family,Historic
ATTACH;FMTTYPE=image/jpeg:https://visitfloydva.com/wp-content/uploads/2025/04/IMG_4884.jpg
ORGANIZER;CN="Old Church Gallery%2C Ltd.":MAILTO:oldchurchgallery@swva.net
GEO:36.911011;-80.317746
X-APPLE-STRUCTURED-LOCATION;VALUE=URI;X-ADDRESS=Old Church Gallery 110 Wilson St. Floyd VA 24091 Select a Country:;X-APPLE-RADIUS=500;X-TITLE=110 Wilson St.:geo:-80.317746,36.911011
END:VEVENT
BEGIN:VEVENT
DTSTART;TZID=America/New_York:20251115T173000
DTEND;TZID=America/New_York:20251115T190000
DTSTAMP:20260423T133723
CREATED:20251107T173934Z
LAST-MODIFIED:20251107T173934Z
UID:10030812-1763227800-1763233200@visitfloydva.com
SUMMARY:Tellabration! Liars Contest at The June Bug Center
DESCRIPTION:Southwest Virginia’s funniest storytellers take the stage for the 2nd Annual Tellabration! Liars Contest at the June Bug Center in Floyd on Saturday\, November 15\, 2025\, from 5:30–7:00 p.m. Ten contestants will spin outrageous tall tales for cash prizes and the coveted Golden Shovel Award.\nAdmission is free (preregistration recommended).Contestants pay $10 to enter.\nContestant Registration: https://tinyurl.com/3ca294aw
URL:https://visitfloydva.com/event/tellabration-liars-contest-at-the-june-bug-center/
LOCATION:June Bug Center\, 251 Parkway Ln. S.\, Floyd\, VA\, 24091\, United States
CATEGORIES:Community,Kid friendly
ORGANIZER;CN="The June Bug Center for The Arts":MAILTO:resa@thejunebugcenter.com
GEO:36.903013;-80.316736
X-APPLE-STRUCTURED-LOCATION;VALUE=URI;X-ADDRESS=June Bug Center 251 Parkway Ln. S. Floyd VA 24091 United States;X-APPLE-RADIUS=500;X-TITLE=251 Parkway Ln. S.:geo:-80.316736,36.903013
END:VEVENT
BEGIN:VEVENT
DTSTART;TZID=America/New_York:20251121T140000
DTEND;TZID=America/New_York:20251121T170000
DTSTAMP:20260423T133723
CREATED:20250428T141210Z
LAST-MODIFIED:20251107T160557Z
UID:10028374-1763733600-1763744400@visitfloydva.com
SUMMARY:Memories Sit Here
DESCRIPTION:“Memories Sit Here —Stools\, Chairs\, Benches & Their Makers” features more than thirty Floyd County woodworkers. Old Church Gallery permanent collections of folk art\, coverlets\, baskets\, tools\, quilts\, and soapstone pieces are also on exhibit. The Gallery is open every Saturday from 10:00 to 1:00. There is ample parking and the Gallery is accessible from the Floyd Heritage Walking Trail.
URL:https://visitfloydva.com/event/memories-sit-here/2025-11-21/
LOCATION:Old Church Gallery\, 110 Wilson St.\, Floyd\, VA\, 24091\, Select a Country:
CATEGORIES:Arts & Handcraft,Community,Family,Historic
ATTACH;FMTTYPE=image/jpeg:https://visitfloydva.com/wp-content/uploads/2025/04/IMG_4914.jpg
ORGANIZER;CN="Old Church Gallery%2C Ltd.":MAILTO:oldchurchgallery@swva.net
GEO:36.911011;-80.317746
X-APPLE-STRUCTURED-LOCATION;VALUE=URI;X-ADDRESS=Old Church Gallery 110 Wilson St. Floyd VA 24091 Select a Country:;X-APPLE-RADIUS=500;X-TITLE=110 Wilson St.:geo:-80.317746,36.911011
END:VEVENT
BEGIN:VEVENT
DTSTART;TZID=America/New_York:20251122T100000
DTEND;TZID=America/New_York:20251122T130000
DTSTAMP:20260423T133723
CREATED:20250428T141515Z
LAST-MODIFIED:20251107T160935Z
UID:10028411-1763805600-1763816400@visitfloydva.com
SUMMARY:Memories Sit Here
DESCRIPTION:“Memories Sit Here — Stools\, Chairs\, Benches & Their Makers” is a cultural arts exhibit featuring more than thirty Floyd County woodworkers. In addition\, Old Church Gallery permanent collections on display include quilts\, tools\, baskets\, folk art\, coverlets\, music\, archaeological pieces\, and oral histories. The Gallery house has ample parking and is accessible from the Floyd Heritage Walking Trail.
URL:https://visitfloydva.com/event/memories-sit-here-2/2025-11-22/
LOCATION:Old Church Gallery\, 110 Wilson St.\, Floyd\, VA\, 24091\, Select a Country:
CATEGORIES:Arts & Handcraft,Community,Family,Historic
ATTACH;FMTTYPE=image/jpeg:https://visitfloydva.com/wp-content/uploads/2025/04/IMG_4884.jpg
ORGANIZER;CN="Old Church Gallery%2C Ltd.":MAILTO:oldchurchgallery@swva.net
GEO:36.911011;-80.317746
X-APPLE-STRUCTURED-LOCATION;VALUE=URI;X-ADDRESS=Old Church Gallery 110 Wilson St. Floyd VA 24091 Select a Country:;X-APPLE-RADIUS=500;X-TITLE=110 Wilson St.:geo:-80.317746,36.911011
END:VEVENT
BEGIN:VEVENT
DTSTART;TZID=America/New_York:20251128T140000
DTEND;TZID=America/New_York:20251128T170000
DTSTAMP:20260423T133723
CREATED:20250428T141210Z
LAST-MODIFIED:20251107T160557Z
UID:10028375-1764338400-1764349200@visitfloydva.com
SUMMARY:Memories Sit Here
DESCRIPTION:“Memories Sit Here —Stools\, Chairs\, Benches & Their Makers” features more than thirty Floyd County woodworkers. Old Church Gallery permanent collections of folk art\, coverlets\, baskets\, tools\, quilts\, and soapstone pieces are also on exhibit. The Gallery is open every Saturday from 10:00 to 1:00. There is ample parking and the Gallery is accessible from the Floyd Heritage Walking Trail.
URL:https://visitfloydva.com/event/memories-sit-here/2025-11-28/
LOCATION:Old Church Gallery\, 110 Wilson St.\, Floyd\, VA\, 24091\, Select a Country:
CATEGORIES:Arts & Handcraft,Community,Family,Historic
ATTACH;FMTTYPE=image/jpeg:https://visitfloydva.com/wp-content/uploads/2025/04/IMG_4914.jpg
ORGANIZER;CN="Old Church Gallery%2C Ltd.":MAILTO:oldchurchgallery@swva.net
GEO:36.911011;-80.317746
X-APPLE-STRUCTURED-LOCATION;VALUE=URI;X-ADDRESS=Old Church Gallery 110 Wilson St. Floyd VA 24091 Select a Country:;X-APPLE-RADIUS=500;X-TITLE=110 Wilson St.:geo:-80.317746,36.911011
END:VEVENT
BEGIN:VEVENT
DTSTART;TZID=America/New_York:20251129T100000
DTEND;TZID=America/New_York:20251129T130000
DTSTAMP:20260423T133723
CREATED:20250428T141515Z
LAST-MODIFIED:20251107T160935Z
UID:10028412-1764410400-1764421200@visitfloydva.com
SUMMARY:Memories Sit Here
DESCRIPTION:“Memories Sit Here — Stools\, Chairs\, Benches & Their Makers” is a cultural arts exhibit featuring more than thirty Floyd County woodworkers. In addition\, Old Church Gallery permanent collections on display include quilts\, tools\, baskets\, folk art\, coverlets\, music\, archaeological pieces\, and oral histories. The Gallery house has ample parking and is accessible from the Floyd Heritage Walking Trail.
URL:https://visitfloydva.com/event/memories-sit-here-2/2025-11-29/
LOCATION:Old Church Gallery\, 110 Wilson St.\, Floyd\, VA\, 24091\, Select a Country:
CATEGORIES:Arts & Handcraft,Community,Family,Historic
ATTACH;FMTTYPE=image/jpeg:https://visitfloydva.com/wp-content/uploads/2025/04/IMG_4884.jpg
ORGANIZER;CN="Old Church Gallery%2C Ltd.":MAILTO:oldchurchgallery@swva.net
GEO:36.911011;-80.317746
X-APPLE-STRUCTURED-LOCATION;VALUE=URI;X-ADDRESS=Old Church Gallery 110 Wilson St. Floyd VA 24091 Select a Country:;X-APPLE-RADIUS=500;X-TITLE=110 Wilson St.:geo:-80.317746,36.911011
END:VEVENT
END:VCALENDAR