BEGIN:VCALENDAR
VERSION:2.0
PRODID:-//Visit Floyd Virginia - ECPv6.15.20//NONSGML v1.0//EN
CALSCALE:GREGORIAN
METHOD:PUBLISH
X-WR-CALNAME:Visit Floyd Virginia
X-ORIGINAL-URL:https://visitfloydva.com
X-WR-CALDESC:Events for Visit Floyd Virginia
REFRESH-INTERVAL;VALUE=DURATION:PT1H
X-Robots-Tag:noindex
X-PUBLISHED-TTL:PT1H
BEGIN:VTIMEZONE
TZID:America/New_York
BEGIN:DAYLIGHT
TZOFFSETFROM:-0500
TZOFFSETTO:-0400
TZNAME:EDT
DTSTART:20230312T070000
END:DAYLIGHT
BEGIN:STANDARD
TZOFFSETFROM:-0400
TZOFFSETTO:-0500
TZNAME:EST
DTSTART:20231105T060000
END:STANDARD
BEGIN:DAYLIGHT
TZOFFSETFROM:-0500
TZOFFSETTO:-0400
TZNAME:EDT
DTSTART:20240310T070000
END:DAYLIGHT
BEGIN:STANDARD
TZOFFSETFROM:-0400
TZOFFSETTO:-0500
TZNAME:EST
DTSTART:20241103T060000
END:STANDARD
BEGIN:DAYLIGHT
TZOFFSETFROM:-0500
TZOFFSETTO:-0400
TZNAME:EDT
DTSTART:20250309T070000
END:DAYLIGHT
BEGIN:STANDARD
TZOFFSETFROM:-0400
TZOFFSETTO:-0500
TZNAME:EST
DTSTART:20251102T060000
END:STANDARD
END:VTIMEZONE
BEGIN:VEVENT
DTSTART;TZID=America/New_York:20240505T100000
DTEND;TZID=America/New_York:20240505T170000
DTSTAMP:20260421T191541
CREATED:20240424T153157Z
LAST-MODIFIED:20240424T153157Z
UID:10027724-1714903200-1714928400@visitfloydva.com
SUMMARY:16 Hands Studio Tour
DESCRIPTION:We welcome you to our six galleries spread across Floyd county. This self guided driving tour features eight members and new visiting artists during our spring 16 Hands tour.
URL:https://visitfloydva.com/event/16-hands-studio-tour-13/
LOCATION:16 Hands Studio Tour\, 1643 Starbuck Rd\, Floyd\, VA\, 24091\, United States
CATEGORIES:Arts & Handcraft
ATTACH;FMTTYPE=image/jpeg:https://visitfloydva.com/wp-content/uploads/2024/04/16Hands-tuquois-logo-1.jpg
GEO:36.913423;-80.212909
X-APPLE-STRUCTURED-LOCATION;VALUE=URI;X-ADDRESS=16 Hands Studio Tour 1643 Starbuck Rd Floyd VA 24091 United States;X-APPLE-RADIUS=500;X-TITLE=1643 Starbuck Rd:geo:-80.212909,36.913423
END:VEVENT
BEGIN:VEVENT
DTSTART;TZID=America/New_York:20240503T140000
DTEND;TZID=America/New_York:20240503T170000
DTSTAMP:20260421T191541
CREATED:20240419T144932Z
LAST-MODIFIED:20240419T145034Z
UID:10029315-1714744800-1714755600@visitfloydva.com
SUMMARY:There's the Buffalo!
DESCRIPTION:Old Church Gallery proudly presents our 2024 exhibit “There’s the Buffalo!” Over twenty local artists share their personal visions of Floyd County’s legendary Buffalo Mountain using textiles\, photography\, painting\, and glasswork. Also included in the exhibit are memories of early 20th Century life around Buffalo Mountain taken from 1999-2001 interviews with longtime residents.\nAs the Cultural Arts Museum for Floyd County\, our permanent exhibit spaces are filled with glimpses of life here from prehistoric stone tools to contemporary sculptures.\nWe’re at 110 Wilson Street (between Finders Keepers and Hotel Floyd) with ample parking and walking access off the town Heritage Trail. Admission is free.
URL:https://visitfloydva.com/event/theres-the-buffalo-2/2024-05-03/
LOCATION:Old Church Gallery\, 110 Wilson St.\, Floyd\, VA\, 24091\, Select a Country:
CATEGORIES:Arts & Handcraft
ATTACH;FMTTYPE=image/jpeg:https://visitfloydva.com/wp-content/uploads/2024/04/cropped-scaled.jpeg
ORGANIZER;CN="Old Church Gallery%2C Ltd.":MAILTO:oldchurchgallery@swva.net
GEO:36.911011;-80.317746
X-APPLE-STRUCTURED-LOCATION;VALUE=URI;X-ADDRESS=Old Church Gallery 110 Wilson St. Floyd VA 24091 Select a Country:;X-APPLE-RADIUS=500;X-TITLE=110 Wilson St.:geo:-80.317746,36.911011
END:VEVENT
BEGIN:VEVENT
DTSTART;TZID=America/New_York:20240426T140000
DTEND;TZID=America/New_York:20240426T170000
DTSTAMP:20260421T191541
CREATED:20240419T144932Z
LAST-MODIFIED:20240419T145034Z
UID:10029314-1714140000-1714150800@visitfloydva.com
SUMMARY:There's the Buffalo!
DESCRIPTION:Old Church Gallery proudly presents our 2024 exhibit “There’s the Buffalo!” Over twenty local artists share their personal visions of Floyd County’s legendary Buffalo Mountain using textiles\, photography\, painting\, and glasswork. Also included in the exhibit are memories of early 20th Century life around Buffalo Mountain taken from 1999-2001 interviews with longtime residents.\nAs the Cultural Arts Museum for Floyd County\, our permanent exhibit spaces are filled with glimpses of life here from prehistoric stone tools to contemporary sculptures.\nWe’re at 110 Wilson Street (between Finders Keepers and Hotel Floyd) with ample parking and walking access off the town Heritage Trail. Admission is free.
URL:https://visitfloydva.com/event/theres-the-buffalo-2/2024-04-26/
LOCATION:Old Church Gallery\, 110 Wilson St.\, Floyd\, VA\, 24091\, Select a Country:
CATEGORIES:Arts & Handcraft
ATTACH;FMTTYPE=image/jpeg:https://visitfloydva.com/wp-content/uploads/2024/04/cropped-scaled.jpeg
ORGANIZER;CN="Old Church Gallery%2C Ltd.":MAILTO:oldchurchgallery@swva.net
GEO:36.911011;-80.317746
X-APPLE-STRUCTURED-LOCATION;VALUE=URI;X-ADDRESS=Old Church Gallery 110 Wilson St. Floyd VA 24091 Select a Country:;X-APPLE-RADIUS=500;X-TITLE=110 Wilson St.:geo:-80.317746,36.911011
END:VEVENT
BEGIN:VEVENT
DTSTART;TZID=America/New_York:20240420T170000
DTEND;TZID=America/New_York:20240420T190000
DTSTAMP:20260421T191541
CREATED:20240408T173100Z
LAST-MODIFIED:20240408T173100Z
UID:10027708-1713632400-1713639600@visitfloydva.com
SUMMARY:Earth First & Art of Beekeeping Exhibitions Opening Reception
DESCRIPTION:Floyd Center for the Arts Galleries Exhibition Opening Reception\, \nIn the Hayloft/Breezeway Galleries\, the Eart First Exhibition will be displayed. This exhibition aims to explore and celebrate the central theme of Earth stewardship and sustainability. In a world where our environmental consciousness is more important than ever\, your artistic voice can be a powerful catalyst for change. Artists exploring themes of sustainability\, connection with nature\, upcycling media\, coordination and relationships between species\, climate dialogue\, and more through various media are encouraged to apply. Earth First will highlight the delicate balance between human existence and the natural world as seen through environmental consciousness. This is a national\, juried call\, and all accepted works will be exhibited in our main gallery space from Saturday\, April 20\, through Saturday\, June 1\, 2024. \nIn the Falcon Gallery is the “Art of Beekeeping\,” presented by Spikenard Farm Honeybee Sanctuary.
URL:https://visitfloydva.com/event/earth-first-art-of-beekeeping-exhibitions-opening-reception/
LOCATION:Floyd Center for the Arts\, 220 Parkway Lane S\, Floyd\, VA\, 24091\, United States
CATEGORIES:Arts & Handcraft,Community,Education
ATTACH;FMTTYPE=image/png:https://visitfloydva.com/wp-content/uploads/2024/04/Generic_Earth-First-Exhibition.png
GEO:36.9039185;-80.3170382
X-APPLE-STRUCTURED-LOCATION;VALUE=URI;X-ADDRESS=Floyd Center for the Arts 220 Parkway Lane S Floyd VA 24091 United States;X-APPLE-RADIUS=500;X-TITLE=220 Parkway Lane S:geo:-80.3170382,36.9039185
END:VEVENT
BEGIN:VEVENT
DTSTART;TZID=America/New_York:20240420T130000
DTEND;TZID=America/New_York:20240420T150000
DTSTAMP:20260421T191541
CREATED:20240304T135731Z
LAST-MODIFIED:20240304T135731Z
UID:10029252-1713618000-1713625200@visitfloydva.com
SUMMARY:Procession of Appalachian Species Giant Puppet Parade
DESCRIPTION:During Floyd Earth Week\, celebrations in Lineberry Park will include the Procession of Appalachian Species Giant Puppet Parade\, that will proceed through downtown from 1:00 till 3:00.
URL:https://visitfloydva.com/event/procession-of-appalachian-species-giant-puppet-parade/
LOCATION:Warren G. Lineberry Park\, 250 South Locust St.\, Floyd\, VA\, 24091\, United States
CATEGORIES:Arts & Handcraft,Community,Education,Entertainment,Family,Kid friendly,Parade,Pet friendly
ATTACH;FMTTYPE=image/jpeg:https://visitfloydva.com/wp-content/uploads/2024/03/IMG_9852.jpeg
ORGANIZER;CN="Partnership for Floyd":MAILTO:PartnershipForFloyd@gmail.com
GEO:36.90999;-80.3198122
X-APPLE-STRUCTURED-LOCATION;VALUE=URI;X-ADDRESS=Warren G. Lineberry Park 250 South Locust St. Floyd VA 24091 United States;X-APPLE-RADIUS=500;X-TITLE=250 South Locust St.:geo:-80.3198122,36.90999
END:VEVENT
BEGIN:VEVENT
DTSTART;TZID=America/New_York:20240420T100000
DTEND;TZID=America/New_York:20240420T160000
DTSTAMP:20260421T191541
CREATED:20240415T132949Z
LAST-MODIFIED:20240415T132949Z
UID:10029300-1713607200-1713628800@visitfloydva.com
SUMMARY:Community Earth Day in the Park
DESCRIPTION:From 10:00-4:00 The park will be filled with FREE Nature workshops and information from 12 organizations\, music and a fashion show on stage. Free wildflower seeds\, fruit trees\, nature treasure hunt\, gardening info +++\n1:00 – 3:00 Procession of Appalachian Species with Springhouse – Giant Puppet Parade from Lineberry Park throughout downtown.\n3:00 – 4:00 Partnership for Floyd 20 years of service celebration\, + FREE ice cream social! \nOrganizations with nature activities in Lineberry Park on April 20 include: \n– Partnership for Floyd\n– Springhouse School\,\n– Floyd Flower Power\n– Sustain Floyd solar wagon\n– Blue Mountain School\n– Library\n– Master Naturalists\n– Master Gardeners\n– Green Burial\n– Plenty!\n– New River Valley Montessori School\n– Nature Focusing Trainer
URL:https://visitfloydva.com/event/community-earth-day-in-the-park/
LOCATION:Warren G. Lineberry Park\, 250 South Locust St.\, Floyd\, VA\, 24091\, United States
CATEGORIES:Arts & Handcraft,Community,Education,Entertainment,Environment,Family,Festivals
ATTACH;FMTTYPE=image/jpeg:https://visitfloydva.com/wp-content/uploads/2024/04/Lineberry-Park-sign.jpeg
ORGANIZER;CN="Partnership for Floyd":MAILTO:PartnershipForFloyd@gmail.com
GEO:36.90999;-80.3198122
X-APPLE-STRUCTURED-LOCATION;VALUE=URI;X-ADDRESS=Warren G. Lineberry Park 250 South Locust St. Floyd VA 24091 United States;X-APPLE-RADIUS=500;X-TITLE=250 South Locust St.:geo:-80.3198122,36.90999
END:VEVENT
BEGIN:VEVENT
DTSTART;TZID=America/New_York:20240419T140000
DTEND;TZID=America/New_York:20240419T170000
DTSTAMP:20260421T191541
CREATED:20240419T144932Z
LAST-MODIFIED:20240419T145034Z
UID:10029313-1713535200-1713546000@visitfloydva.com
SUMMARY:There's the Buffalo!
DESCRIPTION:Old Church Gallery proudly presents our 2024 exhibit “There’s the Buffalo!” Over twenty local artists share their personal visions of Floyd County’s legendary Buffalo Mountain using textiles\, photography\, painting\, and glasswork. Also included in the exhibit are memories of early 20th Century life around Buffalo Mountain taken from 1999-2001 interviews with longtime residents.\nAs the Cultural Arts Museum for Floyd County\, our permanent exhibit spaces are filled with glimpses of life here from prehistoric stone tools to contemporary sculptures.\nWe’re at 110 Wilson Street (between Finders Keepers and Hotel Floyd) with ample parking and walking access off the town Heritage Trail. Admission is free.
URL:https://visitfloydva.com/event/theres-the-buffalo-2/2024-04-19/
LOCATION:Old Church Gallery\, 110 Wilson St.\, Floyd\, VA\, 24091\, Select a Country:
CATEGORIES:Arts & Handcraft
ATTACH;FMTTYPE=image/jpeg:https://visitfloydva.com/wp-content/uploads/2024/04/cropped-scaled.jpeg
ORGANIZER;CN="Old Church Gallery%2C Ltd.":MAILTO:oldchurchgallery@swva.net
GEO:36.911011;-80.317746
X-APPLE-STRUCTURED-LOCATION;VALUE=URI;X-ADDRESS=Old Church Gallery 110 Wilson St. Floyd VA 24091 Select a Country:;X-APPLE-RADIUS=500;X-TITLE=110 Wilson St.:geo:-80.317746,36.911011
END:VEVENT
BEGIN:VEVENT
DTSTART;TZID=America/New_York:20240414T140000
DTEND;TZID=America/New_York:20240414T170000
DTSTAMP:20260421T191541
CREATED:20240403T135949Z
LAST-MODIFIED:20240403T135949Z
UID:10029289-1713103200-1713114000@visitfloydva.com
SUMMARY:Spring Paint and Taste
DESCRIPTION:We will be painting a Spring Cherry Tree branch. $35 per person. Price includes: All supplies needed to paint a 16×20″ painting\, instructions on how to paint\, beverages (water\, coffee/tea/hot chocolate – feel free to bring your own) and light snacks. Please RSVP. Pre pay via the link or pay on site. We accept Cash\, Credit\, or Venmo.
URL:https://visitfloydva.com/event/spring-paint-and-taste-2/
LOCATION:Moonlight Manor Bed andBreakfast\, 136 Old fields Rd SW\, Floyd\, VA\, 24091\, United States
CATEGORIES:Arts & Handcraft
ATTACH;FMTTYPE=image/jpeg:https://visitfloydva.com/wp-content/uploads/2024/03/April-Paint.jpg
ORGANIZER;CN="Moonlight Manor Bed &amp%3B Breakfast":MAILTO:moonlightmanorfloyd.com
END:VEVENT
END:VCALENDAR