BEGIN:VCALENDAR
VERSION:2.0
PRODID:-//Visit Floyd Virginia - ECPv6.15.20//NONSGML v1.0//EN
CALSCALE:GREGORIAN
METHOD:PUBLISH
X-ORIGINAL-URL:https://visitfloydva.com
X-WR-CALDESC:Events for Visit Floyd Virginia
REFRESH-INTERVAL;VALUE=DURATION:PT1H
X-Robots-Tag:noindex
X-PUBLISHED-TTL:PT1H
BEGIN:VTIMEZONE
TZID:America/New_York
BEGIN:DAYLIGHT
TZOFFSETFROM:-0500
TZOFFSETTO:-0400
TZNAME:EDT
DTSTART:20240310T070000
END:DAYLIGHT
BEGIN:STANDARD
TZOFFSETFROM:-0400
TZOFFSETTO:-0500
TZNAME:EST
DTSTART:20241103T060000
END:STANDARD
BEGIN:DAYLIGHT
TZOFFSETFROM:-0500
TZOFFSETTO:-0400
TZNAME:EDT
DTSTART:20250309T070000
END:DAYLIGHT
BEGIN:STANDARD
TZOFFSETFROM:-0400
TZOFFSETTO:-0500
TZNAME:EST
DTSTART:20251102T060000
END:STANDARD
BEGIN:DAYLIGHT
TZOFFSETFROM:-0500
TZOFFSETTO:-0400
TZNAME:EDT
DTSTART:20260308T070000
END:DAYLIGHT
BEGIN:STANDARD
TZOFFSETFROM:-0400
TZOFFSETTO:-0500
TZNAME:EST
DTSTART:20261101T060000
END:STANDARD
END:VTIMEZONE
BEGIN:VEVENT
DTSTART;TZID=America/New_York:20250503T100000
DTEND;TZID=America/New_York:20250503T170000
DTSTAMP:20260423T135741
CREATED:20250414T143645Z
LAST-MODIFIED:20250414T143945Z
UID:10030018-1746266400-1746291600@visitfloydva.com
SUMMARY:16 Hands Studio Tour
DESCRIPTION:Join us this Spring for the 16 Hands studio tour. This self guided driving tour features 10 members spread across 7 galleries in Floyd County. This tour highlights the two newest members of the group. Come explore the variety of handmade ceramic vessels made in our slice of the blue ridge!
URL:https://visitfloydva.com/event/16-hands-studio-tour-14/2025-05-03/
LOCATION:16 Hands Studio Tour\, 1643 Starbuck Rd\, Floyd\, VA\, 24091\, United States
CATEGORIES:Arts & Handcraft
ATTACH;FMTTYPE=image/jpeg:https://visitfloydva.com/wp-content/uploads/2025/04/16-hands-logo-orange.jpg
GEO:36.913423;-80.212909
X-APPLE-STRUCTURED-LOCATION;VALUE=URI;X-ADDRESS=16 Hands Studio Tour 1643 Starbuck Rd Floyd VA 24091 United States;X-APPLE-RADIUS=500;X-TITLE=1643 Starbuck Rd:geo:-80.212909,36.913423
END:VEVENT
BEGIN:VEVENT
DTSTART;TZID=America/New_York:20250504T120000
DTEND;TZID=America/New_York:20250504T170000
DTSTAMP:20260423T135741
CREATED:20250414T143645Z
LAST-MODIFIED:20250414T143945Z
UID:10030019-1746360000-1746378000@visitfloydva.com
SUMMARY:16 Hands Studio Tour
DESCRIPTION:Join us this Spring for the 16 Hands studio tour. This self guided driving tour features 10 members spread across 7 galleries in Floyd County. This tour highlights the two newest members of the group. Come explore the variety of handmade ceramic vessels made in our slice of the blue ridge!
URL:https://visitfloydva.com/event/16-hands-studio-tour-14/2025-05-04/
LOCATION:16 Hands Studio Tour\, 1643 Starbuck Rd\, Floyd\, VA\, 24091\, United States
CATEGORIES:Arts & Handcraft
ATTACH;FMTTYPE=image/jpeg:https://visitfloydva.com/wp-content/uploads/2025/04/16-hands-logo-orange.jpg
GEO:36.913423;-80.212909
X-APPLE-STRUCTURED-LOCATION;VALUE=URI;X-ADDRESS=16 Hands Studio Tour 1643 Starbuck Rd Floyd VA 24091 United States;X-APPLE-RADIUS=500;X-TITLE=1643 Starbuck Rd:geo:-80.212909,36.913423
END:VEVENT
BEGIN:VEVENT
DTSTART;TZID=America/New_York:20250522T160000
DTEND;TZID=America/New_York:20250522T190000
DTSTAMP:20260423T135741
CREATED:20250515T170220Z
LAST-MODIFIED:20250515T170220Z
UID:10028429-1747929600-1747940400@visitfloydva.com
SUMMARY:Bee Fabulous Art Fundraiser
DESCRIPTION:A New Leaf Gallery invites you to our Bee Fabulous Art Fundraiser!\nHelp us raise money to support our local high school art department while celebrating our all important native bees! \nThe main event is May 22nd from 4-7 pm but you can bid on our silent auction items and buy raffle tickets anytime in the gallery. \nRaffle drawings and auction winners will be announced at the event. You do not need to be present to win\, but we hope you will join us! \nThere will be door prizes throughout the evening\, glasses of wine for sale by Villa Appalachia\, honey themed goodies for sale\, original art created by the very talented art students\, and so much more! \nThe silent auction is full of one of a kind local art\, pottery\, handmade jewelry\, and more donated by our amazing community of local artisans and the gift baskets are bursting with goodies. \nWIN a 3-day pass for Floyd Fest! \nCome by and see for yourself. The gallery is open Tuesday-Saturday 10 – 4 and Sunday noon – 4. \nThank you for supporting us and the Floyd County High School art students!
URL:https://visitfloydva.com/event/bee-fabulous-art-fundraiser/
LOCATION:VA
CATEGORIES:Arts & Handcraft
ATTACH;FMTTYPE=image/png:https://visitfloydva.com/wp-content/uploads/2025/05/ANLG-Bee-Fundraiser-2025-Poster-11x8.5.png
ORGANIZER;CN="A New Leaf Gallery":MAILTO:anewleafgallery@gmail.com ;
END:VEVENT
END:VCALENDAR