BEGIN:VCALENDAR
VERSION:2.0
PRODID:-//Visit Floyd Virginia - ECPv6.15.20//NONSGML v1.0//EN
CALSCALE:GREGORIAN
METHOD:PUBLISH
X-WR-CALNAME:Visit Floyd Virginia
X-ORIGINAL-URL:https://visitfloydva.com
X-WR-CALDESC:Events for Visit Floyd Virginia
REFRESH-INTERVAL;VALUE=DURATION:PT1H
X-Robots-Tag:noindex
X-PUBLISHED-TTL:PT1H
BEGIN:VTIMEZONE
TZID:America/New_York
BEGIN:DAYLIGHT
TZOFFSETFROM:-0500
TZOFFSETTO:-0400
TZNAME:EDT
DTSTART:20250309T070000
END:DAYLIGHT
BEGIN:STANDARD
TZOFFSETFROM:-0400
TZOFFSETTO:-0500
TZNAME:EST
DTSTART:20251102T060000
END:STANDARD
BEGIN:DAYLIGHT
TZOFFSETFROM:-0500
TZOFFSETTO:-0400
TZNAME:EDT
DTSTART:20260308T070000
END:DAYLIGHT
BEGIN:STANDARD
TZOFFSETFROM:-0400
TZOFFSETTO:-0500
TZNAME:EST
DTSTART:20261101T060000
END:STANDARD
BEGIN:DAYLIGHT
TZOFFSETFROM:-0500
TZOFFSETTO:-0400
TZNAME:EDT
DTSTART:20270314T070000
END:DAYLIGHT
BEGIN:STANDARD
TZOFFSETFROM:-0400
TZOFFSETTO:-0500
TZNAME:EST
DTSTART:20271107T060000
END:STANDARD
END:VTIMEZONE
BEGIN:VEVENT
DTSTART;TZID=America/New_York:20260422T100000
DTEND;TZID=America/New_York:20260422T100000
DTSTAMP:20260422T020242
CREATED:20260413T202436Z
LAST-MODIFIED:20260413T202436Z
UID:10032439-1776852000-1776852000@visitfloydva.com
SUMMARY:Nature and Birding Hike
DESCRIPTION:Nature and Birding hike with Master Naturalist Michael Williams and Tom Brody on the Little River. Drive past 602 Gallimore Ln and park before the bridge.
URL:https://visitfloydva.com/event/nature-and-birding-hike-2/
LOCATION:602 Gallimore Ln\, 602 Gallimore Lan\, Floyd\, VA\, 24091
END:VEVENT
BEGIN:VEVENT
DTSTART;TZID=America/New_York:20260422T160000
DTEND;TZID=America/New_York:20260422T180000
DTSTAMP:20260422T020242
CREATED:20260323T201128Z
LAST-MODIFIED:20260416T171311Z
UID:10032280-1776873600-1776880800@visitfloydva.com
SUMMARY:Juvamukti XL
DESCRIPTION:Coming to Light: Focus\, Practice and the Yogasutra Co-taught with Wendi Wagner \nA workshop style class offering space to slow down and dive deep into the anatomy and alignment of selected asanas. Through demonstrations\, adjustments\, discussion and questions\, students are supported in refining both practice and perspective.\nSliding scale $25-$30
URL:https://visitfloydva.com/event/juvamukti-xl/
LOCATION:Village Green suite 10\, 201 East Main Street\, floyd\, VA\, 24091\, United States
END:VEVENT
BEGIN:VEVENT
DTSTART;TZID=America/New_York:20260422T180000
DTEND;TZID=America/New_York:20260422T180000
DTSTAMP:20260422T020242
CREATED:20260413T202949Z
LAST-MODIFIED:20260413T202949Z
UID:10032440-1776880800-1776880800@visitfloydva.com
SUMMARY:Water is Love - Film and Discussion
DESCRIPTION:Join us for a free community meal of beans and rice (while supplies last) at 6 pm. this will be followed by the film at approximately 6:45 pm. Our invited speakers will then initiate a discussion on water issues\, especially here in Floyd\, and how we as individuals can play our part. \n“Water is Love” follows a group of young people grappling with the climate crisis and shares inspiring stories of regenerative ecosystem design to create water retention. It offers a powerful possibility: community-driven decentralized water management as a critical key for surviving and thriving in this century.
URL:https://visitfloydva.com/event/water-is-love-film-and-discussion/
LOCATION:Floyd Center for the Arts\, 220 Parkway Lane S\, Floyd\, VA\, 24091\, United States
GEO:36.9039185;-80.3170382
X-APPLE-STRUCTURED-LOCATION;VALUE=URI;X-ADDRESS=Floyd Center for the Arts 220 Parkway Lane S Floyd VA 24091 United States;X-APPLE-RADIUS=500;X-TITLE=220 Parkway Lane S:geo:-80.3170382,36.9039185
END:VEVENT
END:VCALENDAR