BEGIN:VCALENDAR
VERSION:2.0
PRODID:-//Visit Floyd Virginia - ECPv6.15.20//NONSGML v1.0//EN
CALSCALE:GREGORIAN
METHOD:PUBLISH
X-WR-CALNAME:Visit Floyd Virginia
X-ORIGINAL-URL:https://visitfloydva.com
X-WR-CALDESC:Events for Visit Floyd Virginia
REFRESH-INTERVAL;VALUE=DURATION:PT1H
X-Robots-Tag:noindex
X-PUBLISHED-TTL:PT1H
BEGIN:VTIMEZONE
TZID:America/New_York
BEGIN:DAYLIGHT
TZOFFSETFROM:-0500
TZOFFSETTO:-0400
TZNAME:EDT
DTSTART:20250309T070000
END:DAYLIGHT
BEGIN:STANDARD
TZOFFSETFROM:-0400
TZOFFSETTO:-0500
TZNAME:EST
DTSTART:20251102T060000
END:STANDARD
BEGIN:DAYLIGHT
TZOFFSETFROM:-0500
TZOFFSETTO:-0400
TZNAME:EDT
DTSTART:20260308T070000
END:DAYLIGHT
BEGIN:STANDARD
TZOFFSETFROM:-0400
TZOFFSETTO:-0500
TZNAME:EST
DTSTART:20261101T060000
END:STANDARD
BEGIN:DAYLIGHT
TZOFFSETFROM:-0500
TZOFFSETTO:-0400
TZNAME:EDT
DTSTART:20270314T070000
END:DAYLIGHT
BEGIN:STANDARD
TZOFFSETFROM:-0400
TZOFFSETTO:-0500
TZNAME:EST
DTSTART:20271107T060000
END:STANDARD
END:VTIMEZONE
BEGIN:VEVENT
DTSTART;TZID=America/New_York:20260420T093000
DTEND;TZID=America/New_York:20260420T110000
DTSTAMP:20260420T015058
CREATED:20241003T165731Z
LAST-MODIFIED:20251106T163912Z
UID:10029703-1776677400-1776682800@visitfloydva.com
SUMMARY:Yoga with Sarah
DESCRIPTION:Awareness based all levels asana class. Movement\, asana\, breathe\, awareness\, chanting\, community\, and deep relaxation.\nJoin us for a magic 90 minute yoga journey to move\, strengthen\, reset\, and relax.
URL:https://visitfloydva.com/event/yoga-with-sarah/2026-04-20/
LOCATION:June Bug Center\, 251 Parkway Ln. S.\, Floyd\, VA\, 24091\, United States
ATTACH;FMTTYPE=image/jpeg:https://visitfloydva.com/wp-content/uploads/2024/10/48E61126-7294-4290-9ECA-771BAA82867F-scaled.jpeg
GEO:36.903013;-80.316736
X-APPLE-STRUCTURED-LOCATION;VALUE=URI;X-ADDRESS=June Bug Center 251 Parkway Ln. S. Floyd VA 24091 United States;X-APPLE-RADIUS=500;X-TITLE=251 Parkway Ln. S.:geo:-80.316736,36.903013
END:VEVENT
BEGIN:VEVENT
DTSTART;TZID=America/New_York:20260420T140000
DTEND;TZID=America/New_York:20260420T233000
DTSTAMP:20260420T015058
CREATED:20260323T142459Z
LAST-MODIFIED:20260407T134815Z
UID:10032274-1776693600-1776727800@visitfloydva.com
SUMMARY:420 Celebration: Allen Surface & Rosebud Live
DESCRIPTION:All day and night live entertainment and food at Hippie Hollow. Allen Surface takes the stage at 2:30. Rosebud at 5:30. Food available. BYOB
URL:https://visitfloydva.com/event/420-celebration-rosebud-plus-more/
LOCATION:Hippie Hollow\, 709 Webbs Mill Rd N\, Floyd\, VA\, 24091\, United States
CATEGORIES:Music
ATTACH;FMTTYPE=image/jpeg:https://visitfloydva.com/wp-content/uploads/2026/03/Screenshot_20260203_093413_Messages.jpg
END:VEVENT
BEGIN:VEVENT
DTSTART;TZID=America/New_York:20260420T160000
DTEND;TZID=America/New_York:20260420T173000
DTSTAMP:20260420T015058
CREATED:20260407T134854Z
LAST-MODIFIED:20260407T134854Z
UID:10032420-1776700800-1776706200@visitfloydva.com
SUMMARY:Lisa James 420 Toke and Flow Yoga
DESCRIPTION:Start with provided 420 at 4:20 on 4/20. Then proceed in a Vinyasa Flow. Fun for all levels \nLisa has taught for 7+ years as a 500hr ERYT. She’s been a nomad for the last 3.5 of those years finding amazing communities all over the US to share her spirit with.
URL:https://visitfloydva.com/event/lisa-james-420-toke-and-flow-yoga/
LOCATION:Hippie Hollow\, 709 Webbs Mill Rd N\, Floyd\, VA\, 24091\, United States
CATEGORIES:Workshop
ATTACH;FMTTYPE=image/jpeg:https://visitfloydva.com/wp-content/uploads/2026/04/Screenshot_20260406_195058_Messages.jpg
END:VEVENT
BEGIN:VEVENT
DTSTART;TZID=America/New_York:20260420T180000
DTEND;TZID=America/New_York:20260420T190000
DTSTAMP:20260420T015058
CREATED:20211229T143658Z
LAST-MODIFIED:20251106T163945Z
UID:10026606-1776708000-1776711600@visitfloydva.com
SUMMARY:Gentle Moderate Yoga
DESCRIPTION:Join Shirley Ann for Gentle Moderate Yoga from 6 pm to 7 pm.
URL:https://visitfloydva.com/event/gentle-yoga-with-shirley-ann-2022-10-05/2026-04-20/
LOCATION:Living Light River Studio\, 407 Slusher Store Rd NE\, Floyd\, VA\, 24091\, United States
CATEGORIES:Wellness
GEO:36.971665;-80.371947
X-APPLE-STRUCTURED-LOCATION;VALUE=URI;X-ADDRESS=Living Light River Studio 407 Slusher Store Rd NE Floyd VA 24091 United States;X-APPLE-RADIUS=500;X-TITLE=407 Slusher Store Rd NE:geo:-80.371947,36.971665
END:VEVENT
END:VCALENDAR