BEGIN:VCALENDAR
VERSION:2.0
PRODID:-//Visit Floyd Virginia - ECPv6.15.20//NONSGML v1.0//EN
CALSCALE:GREGORIAN
METHOD:PUBLISH
X-WR-CALNAME:Visit Floyd Virginia
X-ORIGINAL-URL:https://visitfloydva.com
X-WR-CALDESC:Events for Visit Floyd Virginia
REFRESH-INTERVAL;VALUE=DURATION:PT1H
X-Robots-Tag:noindex
X-PUBLISHED-TTL:PT1H
BEGIN:VTIMEZONE
TZID:America/New_York
BEGIN:DAYLIGHT
TZOFFSETFROM:-0500
TZOFFSETTO:-0400
TZNAME:EDT
DTSTART:20250309T070000
END:DAYLIGHT
BEGIN:STANDARD
TZOFFSETFROM:-0400
TZOFFSETTO:-0500
TZNAME:EST
DTSTART:20251102T060000
END:STANDARD
BEGIN:DAYLIGHT
TZOFFSETFROM:-0500
TZOFFSETTO:-0400
TZNAME:EDT
DTSTART:20260308T070000
END:DAYLIGHT
BEGIN:STANDARD
TZOFFSETFROM:-0400
TZOFFSETTO:-0500
TZNAME:EST
DTSTART:20261101T060000
END:STANDARD
BEGIN:DAYLIGHT
TZOFFSETFROM:-0500
TZOFFSETTO:-0400
TZNAME:EDT
DTSTART:20270314T070000
END:DAYLIGHT
BEGIN:STANDARD
TZOFFSETFROM:-0400
TZOFFSETTO:-0500
TZNAME:EST
DTSTART:20271107T060000
END:STANDARD
END:VTIMEZONE
BEGIN:VEVENT
DTSTART;TZID=America/New_York:20260313T170000
DTEND;TZID=America/New_York:20260313T200000
DTSTAMP:20260421T043133
CREATED:20260312T152421Z
LAST-MODIFIED:20260312T152421Z
UID:10032228-1773421200-1773432000@visitfloydva.com
SUMMARY:Rock Castle Gorgeous
DESCRIPTION:Listen to live music and while enjoying craft beers!
URL:https://visitfloydva.com/event/rock-castle-gorgeous-3/
LOCATION:Buffalo Mountain Brewery & McDaniel’s Tavern\, 332 Webbs Mill Rd.\, Floyd\, VA\, 24091\, United States
GEO:36.9212216;-80.3255321
X-APPLE-STRUCTURED-LOCATION;VALUE=URI;X-ADDRESS=Buffalo Mountain Brewery & McDaniel’s Tavern 332 Webbs Mill Rd. Floyd VA 24091 United States;X-APPLE-RADIUS=500;X-TITLE=332 Webbs Mill Rd.:geo:-80.3255321,36.9212216
END:VEVENT
BEGIN:VEVENT
DTSTART;TZID=America/New_York:20260313T183000
DTEND;TZID=America/New_York:20260313T183000
DTSTAMP:20260421T043133
CREATED:20251215T201259Z
LAST-MODIFIED:20251231T221548Z
UID:10031606-1773426600-1773426600@visitfloydva.com
SUMMARY:Friday Night Jamboree
DESCRIPTION:Join us at the Floyd Country Store every Friday Night at 6:30 pm for the Friday Night Jamboree. \nLearn more about the Friday Night Jamboree here. \nGeneral Admission Tickets\nGeneral admission tickets are available at the door every Friday at 4:45pm before the Jamboree. General admission tickets are not available in advance and seating is not guaranteed. Cost is $10 for adults and $7 for children ages 7-12. Kids 6 and under are free. \n\n\nFriend of the Jamboree\nAre you a Friday Night Jamboree regular? Ask about our Friend of the Jamboree program! A $20 membership allows the bearer $7 admission into the Jamboree all year long\, paying for itself in just four visits. Must be purchased at the Floyd Country Store. \n\n\nReserved Seating Tickets\nWe are happy to offer a very limited number of reserved seats\, located in the center section starting from the second row through the fifth row (limited to 42 seats\, maximum eight tickets per order). Seating is assigned on a first-come\, first served basis\, per customer request and special needs. Please include helpful information in the notes section that will help us best accommodate your group. We will do our best to honor requests and seat your group together if possible. \nReserved tickets can be purchased online for $16 each. Since it is a reserved seat\, children using a seat are the same price as adults\, therefore\, ticket reservations need to made for them as well. There are no refunds or exchanges. We ask that you be in your seats by 6:30 pm or your reservation will be canceled. We look forward to having you at the Friday Night Jamboree! \nNote: If reserved seating is sold out\, you can still purchase general admission tickets at the door. \n\nReserve Seats Online
URL:https://visitfloydva.com/event/friday-night-jamboree-3/2026-03-13/
LOCATION:Floyd Country Store
GEO:36.9103975;-80.3202795
END:VEVENT
BEGIN:VEVENT
DTSTART;TZID=America/New_York:20260313T200000
DTEND;TZID=America/New_York:20260313T200000
DTSTAMP:20260421T043133
CREATED:20260219T151725Z
LAST-MODIFIED:20260219T151725Z
UID:10031760-1773432000-1773432000@visitfloydva.com
SUMMARY:Timewave Zero
DESCRIPTION:Free show ~ \nThis group of all-star musicians hail from the New River Valley of Virginia\, up in the spine of the Appalachians… where rock and blues meet to jam\, where the mountains meet the sky and raise your spirits high\, where psychedelic funk punch is just what’s for breakfast… Timewave Zero music drives dancers straight into the heart of the singularity.
URL:https://visitfloydva.com/event/timewave-zero-2/
LOCATION:Dogtown Pizza\, 302 S. Locust St.\, Floyd\, VA\, 24091\, United States
GEO:36.9099373;-80.3197514
X-APPLE-STRUCTURED-LOCATION;VALUE=URI;X-ADDRESS=Dogtown Pizza 302 S. Locust St. Floyd VA 24091 United States;X-APPLE-RADIUS=500;X-TITLE=302 S. Locust St.:geo:-80.3197514,36.9099373
END:VEVENT
END:VCALENDAR